BEGIN:VCALENDAR
VERSION:2.0
PRODID:-//Community Sports and Wellness - ECPv6.15.17.1//NONSGML v1.0//EN
CALSCALE:GREGORIAN
METHOD:PUBLISH
X-WR-CALNAME:Community Sports and Wellness
X-ORIGINAL-URL:https://communitysw.com
X-WR-CALDESC:Events for Community Sports and Wellness
REFRESH-INTERVAL;VALUE=DURATION:PT1H
X-Robots-Tag:noindex
X-PUBLISHED-TTL:PT1H
BEGIN:VTIMEZONE
TZID:America/Indiana/Indianapolis
BEGIN:DAYLIGHT
TZOFFSETFROM:-0500
TZOFFSETTO:-0400
TZNAME:EDT
DTSTART:20260308T070000
END:DAYLIGHT
BEGIN:STANDARD
TZOFFSETFROM:-0400
TZOFFSETTO:-0500
TZNAME:EST
DTSTART:20261101T060000
END:STANDARD
BEGIN:DAYLIGHT
TZOFFSETFROM:-0500
TZOFFSETTO:-0400
TZNAME:EDT
DTSTART:20270314T070000
END:DAYLIGHT
BEGIN:STANDARD
TZOFFSETFROM:-0400
TZOFFSETTO:-0500
TZNAME:EST
DTSTART:20271107T060000
END:STANDARD
BEGIN:DAYLIGHT
TZOFFSETFROM:-0500
TZOFFSETTO:-0400
TZNAME:EDT
DTSTART:20280312T070000
END:DAYLIGHT
BEGIN:STANDARD
TZOFFSETFROM:-0400
TZOFFSETTO:-0500
TZNAME:EST
DTSTART:20281105T060000
END:STANDARD
END:VTIMEZONE
BEGIN:VEVENT
DTSTART;TZID=America/Indiana/Indianapolis:20270605T080000
DTEND;TZID=America/Indiana/Indianapolis:20270605T090000
DTSTAMP:20260422T151731
CREATED:20250117T211631Z
LAST-MODIFIED:20250117T211634Z
UID:10004278-1812182400-1812186000@communitysw.com
SUMMARY:Cardio Tennis
DESCRIPTION:This class is a nationwide fitness and tennis program from TIA (Tennis Industry Association) that promises “heart-pumping fitness.” The session includes a warm-up\, cardio workout\, great music\, and a chance to improve your game.
URL:https://communitysw.com/event/cardio-tennis-4/2027-06-05/
CATEGORIES:Tennis
ATTACH;FMTTYPE=image/jpeg:https://communitysw.com/wp-content/uploads/2024/10/Y0A7035-copy-edited.jpg
END:VEVENT
BEGIN:VEVENT
DTSTART;TZID=America/Indiana/Indianapolis:20270607T100000
DTEND;TZID=America/Indiana/Indianapolis:20270607T110000
DTSTAMP:20260422T151731
CREATED:20250117T203332Z
LAST-MODIFIED:20250117T204441Z
UID:10001535-1812362400-1812366000@communitysw.com
SUMMARY:Cardio Tennis
DESCRIPTION:This class is a nationwide fitness and tennis program from TIA (Tennis Industry Association) that promises “heart-pumping fitness”. The session includes a warm-up\, cardio workout\, great music\, and a chance to improve your game.
URL:https://communitysw.com/event/cardio-tennis/2027-06-07/
CATEGORIES:Tennis
ATTACH;FMTTYPE=image/jpeg:https://communitysw.com/wp-content/uploads/2024/10/Y0A7035-copy-edited.jpg
END:VEVENT
BEGIN:VEVENT
DTSTART;TZID=America/Indiana/Indianapolis:20270607T173000
DTEND;TZID=America/Indiana/Indianapolis:20270607T183000
DTSTAMP:20260422T151731
CREATED:20250117T204122Z
LAST-MODIFIED:20250117T204254Z
UID:10001933-1812389400-1812393000@communitysw.com
SUMMARY:Cardio Tennis
DESCRIPTION:This class is a nationwide fitness and tennis program from TIA (Tennis Industry Association) that promises “heart-pumping fitness”. The session includes a warm-up\, cardio workout\, great music\, and a chance to improve your game.
URL:https://communitysw.com/event/cardio-tennis-2/2027-06-07/
CATEGORIES:Tennis
ATTACH;FMTTYPE=image/jpeg:https://communitysw.com/wp-content/uploads/2024/10/Y0A7035-copy-edited.jpg
END:VEVENT
BEGIN:VEVENT
DTSTART;TZID=America/Indiana/Indianapolis:20270608T100000
DTEND;TZID=America/Indiana/Indianapolis:20270608T113000
DTSTAMP:20260422T151731
CREATED:20250117T204836Z
LAST-MODIFIED:20250117T204840Z
UID:10002194-1812448800-1812454200@communitysw.com
SUMMARY:4.0 CIWITL
DESCRIPTION:Come ready to learn and compete! \n\n\n\nThis class is focused on stroke production and point construction. Learn to move and play as a team with your partner and your other teammates. CIWITL Championship here we come!
URL:https://communitysw.com/event/4-0-ciwitl/2027-06-08/
CATEGORIES:Tennis
END:VEVENT
BEGIN:VEVENT
DTSTART;TZID=America/Indiana/Indianapolis:20270609T080000
DTEND;TZID=America/Indiana/Indianapolis:20270609T093000
DTSTAMP:20260422T151731
CREATED:20250117T210002Z
LAST-MODIFIED:20250117T210005Z
UID:10002455-1812528000-1812533400@communitysw.com
SUMMARY:Adult 3.0/3.5 Mixed Clinic
DESCRIPTION:Classes vary by rating and structure. These classes are focused on point play and fun! There is an emphasis on technique and incorporating strokes\, movement\, positioning and placement. Tactics and strategy taught in the appropriate format.
URL:https://communitysw.com/event/adult-3-0-3-5-mixed-clinic/2027-06-09/
CATEGORIES:Tennis
ATTACH;FMTTYPE=image/jpeg:https://communitysw.com/wp-content/uploads/2024/10/Y0A7035-copy-edited.jpg
END:VEVENT
BEGIN:VEVENT
DTSTART;TZID=America/Indiana/Indianapolis:20270609T100000
DTEND;TZID=America/Indiana/Indianapolis:20270609T110000
DTSTAMP:20260422T151731
CREATED:20250117T203332Z
LAST-MODIFIED:20250117T204441Z
UID:10001536-1812535200-1812538800@communitysw.com
SUMMARY:Cardio Tennis
DESCRIPTION:This class is a nationwide fitness and tennis program from TIA (Tennis Industry Association) that promises “heart-pumping fitness”. The session includes a warm-up\, cardio workout\, great music\, and a chance to improve your game.
URL:https://communitysw.com/event/cardio-tennis/2027-06-09/
CATEGORIES:Tennis
ATTACH;FMTTYPE=image/jpeg:https://communitysw.com/wp-content/uploads/2024/10/Y0A7035-copy-edited.jpg
END:VEVENT
BEGIN:VEVENT
DTSTART;TZID=America/Indiana/Indianapolis:20270610T093000
DTEND;TZID=America/Indiana/Indianapolis:20270610T110000
DTSTAMP:20260422T151731
CREATED:20250117T210234Z
LAST-MODIFIED:20250117T210237Z
UID:10002716-1812619800-1812625200@communitysw.com
SUMMARY:2.5 CIWITL
DESCRIPTION:Come ready to learn and compete! \n\n\n\nThis class is focused on stroke production and point construction. Learn to move and play as a team with your partner and your other teammates. CIWITL Championship here we come!
URL:https://communitysw.com/event/2-5-ciwitl/2027-06-10/
CATEGORIES:Tennis
ATTACH;FMTTYPE=image/jpeg:https://communitysw.com/wp-content/uploads/2024/10/Y0A7035-copy-edited.jpg
END:VEVENT
BEGIN:VEVENT
DTSTART;TZID=America/Indiana/Indianapolis:20270610T183000
DTEND;TZID=America/Indiana/Indianapolis:20270610T203000
DTSTAMP:20260422T151731
CREATED:20250117T210521Z
LAST-MODIFIED:20250117T210526Z
UID:10002977-1812652200-1812659400@communitysw.com
SUMMARY:4.0+ Womens Clinic
DESCRIPTION:Classes vary by rating and structure. \n\n\n\nThese classes are focused on point play and fun! There is an emphasis on technique and incorporating strokes\, movement\, positioning and placement. Tactics and strategy taught in the appropriate format.
URL:https://communitysw.com/event/4-0-womens-clinic/2027-06-10/
CATEGORIES:Tennis
ATTACH;FMTTYPE=image/jpeg:https://communitysw.com/wp-content/uploads/2024/10/Y0A7035-copy-edited.jpg
END:VEVENT
BEGIN:VEVENT
DTSTART;TZID=America/Indiana/Indianapolis:20270611T080000
DTEND;TZID=America/Indiana/Indianapolis:20270611T093000
DTSTAMP:20260422T151731
CREATED:20250117T210733Z
LAST-MODIFIED:20250117T210737Z
UID:10003238-1812700800-1812706200@communitysw.com
SUMMARY:3.0/3.5 Men's Cardio & Drills
DESCRIPTION:Classes vary by rating and structure. \n\n\n\nThese classes are focused on point play and fun! There is an emphasis on technique and incorporating strokes\, movement\, positioning and placement. Tactics and strategy taught in the appropriate format.
URL:https://communitysw.com/event/3-0-3-5-mens-cardio-drills/2027-06-11/
CATEGORIES:Tennis
ATTACH;FMTTYPE=image/jpeg:https://communitysw.com/wp-content/uploads/2024/10/Y0A7035-copy-edited.jpg
END:VEVENT
BEGIN:VEVENT
DTSTART;TZID=America/Indiana/Indianapolis:20270611T090000
DTEND;TZID=America/Indiana/Indianapolis:20270611T100000
DTSTAMP:20260422T151731
CREATED:20250117T211005Z
LAST-MODIFIED:20250117T211009Z
UID:10003498-1812704400-1812708000@communitysw.com
SUMMARY:Tennis U 101
DESCRIPTION:Picking up a racquet for the first time? Or are you looking to refine your technique\, this class is for you. \n\n\n\nYou will learn technique\, strategies\, and skills like serving and volley grips.
URL:https://communitysw.com/event/tennis-u-101/2027-06-11/
CATEGORIES:Tennis
ATTACH;FMTTYPE=image/jpeg:https://communitysw.com/wp-content/uploads/2024/10/Y0A7035-copy-edited.jpg
END:VEVENT
BEGIN:VEVENT
DTSTART;TZID=America/Indiana/Indianapolis:20270611T093000
DTEND;TZID=America/Indiana/Indianapolis:20270611T110000
DTSTAMP:20260422T151731
CREATED:20250117T211212Z
LAST-MODIFIED:20250117T211215Z
UID:10003758-1812706200-1812711600@communitysw.com
SUMMARY:Cardio Tennis
DESCRIPTION:This class is a nationwide fitness and tennis program from TIA (Tennis Industry Association) that promises “heart-pumping fitness.” The session includes a warm-up\, cardio workout\, great music\, and a chance to improve your game.
URL:https://communitysw.com/event/cardio-tennis-3/2027-06-11/
CATEGORIES:Tennis
ATTACH;FMTTYPE=image/jpeg:https://communitysw.com/wp-content/uploads/2024/10/Y0A7035-copy-edited.jpg
END:VEVENT
BEGIN:VEVENT
DTSTART;TZID=America/Indiana/Indianapolis:20270611T110000
DTEND;TZID=America/Indiana/Indianapolis:20270611T123000
DTSTAMP:20260422T151731
CREATED:20250117T211427Z
LAST-MODIFIED:20250117T211434Z
UID:10004018-1812711600-1812717000@communitysw.com
SUMMARY:3.0/3.5 CIWITL
DESCRIPTION:Come ready to learn and compete! \n\n\n\nThis class is focused on stroke production and point construction. Learn to move and play as a team with your partner and your other teammates. CIWITL Championship here we come!
URL:https://communitysw.com/event/3-0-3-5-ciwitl/2027-06-11/
CATEGORIES:Tennis
ATTACH;FMTTYPE=image/jpeg:https://communitysw.com/wp-content/uploads/2024/10/Y0A7035-copy-edited.jpg
END:VEVENT
BEGIN:VEVENT
DTSTART;TZID=America/Indiana/Indianapolis:20270612T080000
DTEND;TZID=America/Indiana/Indianapolis:20270612T090000
DTSTAMP:20260422T151731
CREATED:20250117T211631Z
LAST-MODIFIED:20250117T211634Z
UID:10004279-1812787200-1812790800@communitysw.com
SUMMARY:Cardio Tennis
DESCRIPTION:This class is a nationwide fitness and tennis program from TIA (Tennis Industry Association) that promises “heart-pumping fitness.” The session includes a warm-up\, cardio workout\, great music\, and a chance to improve your game.
URL:https://communitysw.com/event/cardio-tennis-4/2027-06-12/
CATEGORIES:Tennis
ATTACH;FMTTYPE=image/jpeg:https://communitysw.com/wp-content/uploads/2024/10/Y0A7035-copy-edited.jpg
END:VEVENT
BEGIN:VEVENT
DTSTART;TZID=America/Indiana/Indianapolis:20270614T100000
DTEND;TZID=America/Indiana/Indianapolis:20270614T110000
DTSTAMP:20260422T151731
CREATED:20250117T203332Z
LAST-MODIFIED:20250117T204441Z
UID:10001537-1812967200-1812970800@communitysw.com
SUMMARY:Cardio Tennis
DESCRIPTION:This class is a nationwide fitness and tennis program from TIA (Tennis Industry Association) that promises “heart-pumping fitness”. The session includes a warm-up\, cardio workout\, great music\, and a chance to improve your game.
URL:https://communitysw.com/event/cardio-tennis/2027-06-14/
CATEGORIES:Tennis
ATTACH;FMTTYPE=image/jpeg:https://communitysw.com/wp-content/uploads/2024/10/Y0A7035-copy-edited.jpg
END:VEVENT
BEGIN:VEVENT
DTSTART;TZID=America/Indiana/Indianapolis:20270614T173000
DTEND;TZID=America/Indiana/Indianapolis:20270614T183000
DTSTAMP:20260422T151731
CREATED:20250117T204122Z
LAST-MODIFIED:20250117T204254Z
UID:10001934-1812994200-1812997800@communitysw.com
SUMMARY:Cardio Tennis
DESCRIPTION:This class is a nationwide fitness and tennis program from TIA (Tennis Industry Association) that promises “heart-pumping fitness”. The session includes a warm-up\, cardio workout\, great music\, and a chance to improve your game.
URL:https://communitysw.com/event/cardio-tennis-2/2027-06-14/
CATEGORIES:Tennis
ATTACH;FMTTYPE=image/jpeg:https://communitysw.com/wp-content/uploads/2024/10/Y0A7035-copy-edited.jpg
END:VEVENT
BEGIN:VEVENT
DTSTART;TZID=America/Indiana/Indianapolis:20270615T100000
DTEND;TZID=America/Indiana/Indianapolis:20270615T113000
DTSTAMP:20260422T151731
CREATED:20250117T204836Z
LAST-MODIFIED:20250117T204840Z
UID:10002195-1813053600-1813059000@communitysw.com
SUMMARY:4.0 CIWITL
DESCRIPTION:Come ready to learn and compete! \n\n\n\nThis class is focused on stroke production and point construction. Learn to move and play as a team with your partner and your other teammates. CIWITL Championship here we come!
URL:https://communitysw.com/event/4-0-ciwitl/2027-06-15/
CATEGORIES:Tennis
END:VEVENT
BEGIN:VEVENT
DTSTART;TZID=America/Indiana/Indianapolis:20270616T080000
DTEND;TZID=America/Indiana/Indianapolis:20270616T093000
DTSTAMP:20260422T151731
CREATED:20250117T210002Z
LAST-MODIFIED:20250117T210005Z
UID:10002456-1813132800-1813138200@communitysw.com
SUMMARY:Adult 3.0/3.5 Mixed Clinic
DESCRIPTION:Classes vary by rating and structure. These classes are focused on point play and fun! There is an emphasis on technique and incorporating strokes\, movement\, positioning and placement. Tactics and strategy taught in the appropriate format.
URL:https://communitysw.com/event/adult-3-0-3-5-mixed-clinic/2027-06-16/
CATEGORIES:Tennis
ATTACH;FMTTYPE=image/jpeg:https://communitysw.com/wp-content/uploads/2024/10/Y0A7035-copy-edited.jpg
END:VEVENT
BEGIN:VEVENT
DTSTART;TZID=America/Indiana/Indianapolis:20270616T100000
DTEND;TZID=America/Indiana/Indianapolis:20270616T110000
DTSTAMP:20260422T151731
CREATED:20250117T203332Z
LAST-MODIFIED:20250117T204441Z
UID:10001538-1813140000-1813143600@communitysw.com
SUMMARY:Cardio Tennis
DESCRIPTION:This class is a nationwide fitness and tennis program from TIA (Tennis Industry Association) that promises “heart-pumping fitness”. The session includes a warm-up\, cardio workout\, great music\, and a chance to improve your game.
URL:https://communitysw.com/event/cardio-tennis/2027-06-16/
CATEGORIES:Tennis
ATTACH;FMTTYPE=image/jpeg:https://communitysw.com/wp-content/uploads/2024/10/Y0A7035-copy-edited.jpg
END:VEVENT
BEGIN:VEVENT
DTSTART;TZID=America/Indiana/Indianapolis:20270617T093000
DTEND;TZID=America/Indiana/Indianapolis:20270617T110000
DTSTAMP:20260422T151731
CREATED:20250117T210234Z
LAST-MODIFIED:20250117T210237Z
UID:10002717-1813224600-1813230000@communitysw.com
SUMMARY:2.5 CIWITL
DESCRIPTION:Come ready to learn and compete! \n\n\n\nThis class is focused on stroke production and point construction. Learn to move and play as a team with your partner and your other teammates. CIWITL Championship here we come!
URL:https://communitysw.com/event/2-5-ciwitl/2027-06-17/
CATEGORIES:Tennis
ATTACH;FMTTYPE=image/jpeg:https://communitysw.com/wp-content/uploads/2024/10/Y0A7035-copy-edited.jpg
END:VEVENT
BEGIN:VEVENT
DTSTART;TZID=America/Indiana/Indianapolis:20270617T183000
DTEND;TZID=America/Indiana/Indianapolis:20270617T203000
DTSTAMP:20260422T151731
CREATED:20250117T210521Z
LAST-MODIFIED:20250117T210526Z
UID:10002978-1813257000-1813264200@communitysw.com
SUMMARY:4.0+ Womens Clinic
DESCRIPTION:Classes vary by rating and structure. \n\n\n\nThese classes are focused on point play and fun! There is an emphasis on technique and incorporating strokes\, movement\, positioning and placement. Tactics and strategy taught in the appropriate format.
URL:https://communitysw.com/event/4-0-womens-clinic/2027-06-17/
CATEGORIES:Tennis
ATTACH;FMTTYPE=image/jpeg:https://communitysw.com/wp-content/uploads/2024/10/Y0A7035-copy-edited.jpg
END:VEVENT
BEGIN:VEVENT
DTSTART;TZID=America/Indiana/Indianapolis:20270618T080000
DTEND;TZID=America/Indiana/Indianapolis:20270618T093000
DTSTAMP:20260422T151731
CREATED:20250117T210733Z
LAST-MODIFIED:20250117T210737Z
UID:10003239-1813305600-1813311000@communitysw.com
SUMMARY:3.0/3.5 Men's Cardio & Drills
DESCRIPTION:Classes vary by rating and structure. \n\n\n\nThese classes are focused on point play and fun! There is an emphasis on technique and incorporating strokes\, movement\, positioning and placement. Tactics and strategy taught in the appropriate format.
URL:https://communitysw.com/event/3-0-3-5-mens-cardio-drills/2027-06-18/
CATEGORIES:Tennis
ATTACH;FMTTYPE=image/jpeg:https://communitysw.com/wp-content/uploads/2024/10/Y0A7035-copy-edited.jpg
END:VEVENT
BEGIN:VEVENT
DTSTART;TZID=America/Indiana/Indianapolis:20270618T090000
DTEND;TZID=America/Indiana/Indianapolis:20270618T100000
DTSTAMP:20260422T151731
CREATED:20250117T211005Z
LAST-MODIFIED:20250117T211009Z
UID:10003499-1813309200-1813312800@communitysw.com
SUMMARY:Tennis U 101
DESCRIPTION:Picking up a racquet for the first time? Or are you looking to refine your technique\, this class is for you. \n\n\n\nYou will learn technique\, strategies\, and skills like serving and volley grips.
URL:https://communitysw.com/event/tennis-u-101/2027-06-18/
CATEGORIES:Tennis
ATTACH;FMTTYPE=image/jpeg:https://communitysw.com/wp-content/uploads/2024/10/Y0A7035-copy-edited.jpg
END:VEVENT
BEGIN:VEVENT
DTSTART;TZID=America/Indiana/Indianapolis:20270618T093000
DTEND;TZID=America/Indiana/Indianapolis:20270618T110000
DTSTAMP:20260422T151731
CREATED:20250117T211212Z
LAST-MODIFIED:20250117T211215Z
UID:10003759-1813311000-1813316400@communitysw.com
SUMMARY:Cardio Tennis
DESCRIPTION:This class is a nationwide fitness and tennis program from TIA (Tennis Industry Association) that promises “heart-pumping fitness.” The session includes a warm-up\, cardio workout\, great music\, and a chance to improve your game.
URL:https://communitysw.com/event/cardio-tennis-3/2027-06-18/
CATEGORIES:Tennis
ATTACH;FMTTYPE=image/jpeg:https://communitysw.com/wp-content/uploads/2024/10/Y0A7035-copy-edited.jpg
END:VEVENT
BEGIN:VEVENT
DTSTART;TZID=America/Indiana/Indianapolis:20270618T110000
DTEND;TZID=America/Indiana/Indianapolis:20270618T123000
DTSTAMP:20260422T151731
CREATED:20250117T211427Z
LAST-MODIFIED:20250117T211434Z
UID:10004019-1813316400-1813321800@communitysw.com
SUMMARY:3.0/3.5 CIWITL
DESCRIPTION:Come ready to learn and compete! \n\n\n\nThis class is focused on stroke production and point construction. Learn to move and play as a team with your partner and your other teammates. CIWITL Championship here we come!
URL:https://communitysw.com/event/3-0-3-5-ciwitl/2027-06-18/
CATEGORIES:Tennis
ATTACH;FMTTYPE=image/jpeg:https://communitysw.com/wp-content/uploads/2024/10/Y0A7035-copy-edited.jpg
END:VEVENT
BEGIN:VEVENT
DTSTART;TZID=America/Indiana/Indianapolis:20270619T080000
DTEND;TZID=America/Indiana/Indianapolis:20270619T090000
DTSTAMP:20260422T151731
CREATED:20250117T211631Z
LAST-MODIFIED:20250117T211634Z
UID:10004280-1813392000-1813395600@communitysw.com
SUMMARY:Cardio Tennis
DESCRIPTION:This class is a nationwide fitness and tennis program from TIA (Tennis Industry Association) that promises “heart-pumping fitness.” The session includes a warm-up\, cardio workout\, great music\, and a chance to improve your game.
URL:https://communitysw.com/event/cardio-tennis-4/2027-06-19/
CATEGORIES:Tennis
ATTACH;FMTTYPE=image/jpeg:https://communitysw.com/wp-content/uploads/2024/10/Y0A7035-copy-edited.jpg
END:VEVENT
BEGIN:VEVENT
DTSTART;TZID=America/Indiana/Indianapolis:20270621T100000
DTEND;TZID=America/Indiana/Indianapolis:20270621T110000
DTSTAMP:20260422T151731
CREATED:20250117T203332Z
LAST-MODIFIED:20250117T204441Z
UID:10001539-1813572000-1813575600@communitysw.com
SUMMARY:Cardio Tennis
DESCRIPTION:This class is a nationwide fitness and tennis program from TIA (Tennis Industry Association) that promises “heart-pumping fitness”. The session includes a warm-up\, cardio workout\, great music\, and a chance to improve your game.
URL:https://communitysw.com/event/cardio-tennis/2027-06-21/
CATEGORIES:Tennis
ATTACH;FMTTYPE=image/jpeg:https://communitysw.com/wp-content/uploads/2024/10/Y0A7035-copy-edited.jpg
END:VEVENT
BEGIN:VEVENT
DTSTART;TZID=America/Indiana/Indianapolis:20270621T173000
DTEND;TZID=America/Indiana/Indianapolis:20270621T183000
DTSTAMP:20260422T151731
CREATED:20250117T204122Z
LAST-MODIFIED:20250117T204254Z
UID:10001935-1813599000-1813602600@communitysw.com
SUMMARY:Cardio Tennis
DESCRIPTION:This class is a nationwide fitness and tennis program from TIA (Tennis Industry Association) that promises “heart-pumping fitness”. The session includes a warm-up\, cardio workout\, great music\, and a chance to improve your game.
URL:https://communitysw.com/event/cardio-tennis-2/2027-06-21/
CATEGORIES:Tennis
ATTACH;FMTTYPE=image/jpeg:https://communitysw.com/wp-content/uploads/2024/10/Y0A7035-copy-edited.jpg
END:VEVENT
BEGIN:VEVENT
DTSTART;TZID=America/Indiana/Indianapolis:20270622T100000
DTEND;TZID=America/Indiana/Indianapolis:20270622T113000
DTSTAMP:20260422T151731
CREATED:20250117T204836Z
LAST-MODIFIED:20250117T204840Z
UID:10002196-1813658400-1813663800@communitysw.com
SUMMARY:4.0 CIWITL
DESCRIPTION:Come ready to learn and compete! \n\n\n\nThis class is focused on stroke production and point construction. Learn to move and play as a team with your partner and your other teammates. CIWITL Championship here we come!
URL:https://communitysw.com/event/4-0-ciwitl/2027-06-22/
CATEGORIES:Tennis
END:VEVENT
BEGIN:VEVENT
DTSTART;TZID=America/Indiana/Indianapolis:20270623T080000
DTEND;TZID=America/Indiana/Indianapolis:20270623T093000
DTSTAMP:20260422T151731
CREATED:20250117T210002Z
LAST-MODIFIED:20250117T210005Z
UID:10002457-1813737600-1813743000@communitysw.com
SUMMARY:Adult 3.0/3.5 Mixed Clinic
DESCRIPTION:Classes vary by rating and structure. These classes are focused on point play and fun! There is an emphasis on technique and incorporating strokes\, movement\, positioning and placement. Tactics and strategy taught in the appropriate format.
URL:https://communitysw.com/event/adult-3-0-3-5-mixed-clinic/2027-06-23/
CATEGORIES:Tennis
ATTACH;FMTTYPE=image/jpeg:https://communitysw.com/wp-content/uploads/2024/10/Y0A7035-copy-edited.jpg
END:VEVENT
BEGIN:VEVENT
DTSTART;TZID=America/Indiana/Indianapolis:20270623T100000
DTEND;TZID=America/Indiana/Indianapolis:20270623T110000
DTSTAMP:20260422T151731
CREATED:20250117T203332Z
LAST-MODIFIED:20250117T204441Z
UID:10001540-1813744800-1813748400@communitysw.com
SUMMARY:Cardio Tennis
DESCRIPTION:This class is a nationwide fitness and tennis program from TIA (Tennis Industry Association) that promises “heart-pumping fitness”. The session includes a warm-up\, cardio workout\, great music\, and a chance to improve your game.
URL:https://communitysw.com/event/cardio-tennis/2027-06-23/
CATEGORIES:Tennis
ATTACH;FMTTYPE=image/jpeg:https://communitysw.com/wp-content/uploads/2024/10/Y0A7035-copy-edited.jpg
END:VEVENT
END:VCALENDAR