BEGIN:VCALENDAR
VERSION:2.0
PRODID:-//Community Sports and Wellness - ECPv6.15.17.1//NONSGML v1.0//EN
CALSCALE:GREGORIAN
METHOD:PUBLISH
X-WR-CALNAME:Community Sports and Wellness
X-ORIGINAL-URL:https://communitysw.com
X-WR-CALDESC:Events for Community Sports and Wellness
REFRESH-INTERVAL;VALUE=DURATION:PT1H
X-Robots-Tag:noindex
X-PUBLISHED-TTL:PT1H
BEGIN:VTIMEZONE
TZID:America/Indiana/Indianapolis
BEGIN:DAYLIGHT
TZOFFSETFROM:-0500
TZOFFSETTO:-0400
TZNAME:EDT
DTSTART:20250309T070000
END:DAYLIGHT
BEGIN:STANDARD
TZOFFSETFROM:-0400
TZOFFSETTO:-0500
TZNAME:EST
DTSTART:20251102T060000
END:STANDARD
BEGIN:DAYLIGHT
TZOFFSETFROM:-0500
TZOFFSETTO:-0400
TZNAME:EDT
DTSTART:20260308T070000
END:DAYLIGHT
BEGIN:STANDARD
TZOFFSETFROM:-0400
TZOFFSETTO:-0500
TZNAME:EST
DTSTART:20261101T060000
END:STANDARD
BEGIN:DAYLIGHT
TZOFFSETFROM:-0500
TZOFFSETTO:-0400
TZNAME:EDT
DTSTART:20270314T070000
END:DAYLIGHT
BEGIN:STANDARD
TZOFFSETFROM:-0400
TZOFFSETTO:-0500
TZNAME:EST
DTSTART:20271107T060000
END:STANDARD
BEGIN:DAYLIGHT
TZOFFSETFROM:-0500
TZOFFSETTO:-0400
TZNAME:EDT
DTSTART:20280312T070000
END:DAYLIGHT
BEGIN:STANDARD
TZOFFSETFROM:-0400
TZOFFSETTO:-0500
TZNAME:EST
DTSTART:20281105T060000
END:STANDARD
END:VTIMEZONE
BEGIN:VEVENT
DTSTART;TZID=America/Indiana/Indianapolis:20261008T093000
DTEND;TZID=America/Indiana/Indianapolis:20261008T110000
DTSTAMP:20260422T103419
CREATED:20250117T210234Z
LAST-MODIFIED:20250117T210237Z
UID:10002681-1791451800-1791457200@communitysw.com
SUMMARY:2.5 CIWITL
DESCRIPTION:Come ready to learn and compete! \n\n\n\nThis class is focused on stroke production and point construction. Learn to move and play as a team with your partner and your other teammates. CIWITL Championship here we come!
URL:https://communitysw.com/event/2-5-ciwitl/2026-10-08/
CATEGORIES:Tennis
ATTACH;FMTTYPE=image/jpeg:https://communitysw.com/wp-content/uploads/2024/10/Y0A7035-copy-edited.jpg
END:VEVENT
BEGIN:VEVENT
DTSTART;TZID=America/Indiana/Indianapolis:20261015T093000
DTEND;TZID=America/Indiana/Indianapolis:20261015T110000
DTSTAMP:20260422T103419
CREATED:20250117T210234Z
LAST-MODIFIED:20250117T210237Z
UID:10002682-1792056600-1792062000@communitysw.com
SUMMARY:2.5 CIWITL
DESCRIPTION:Come ready to learn and compete! \n\n\n\nThis class is focused on stroke production and point construction. Learn to move and play as a team with your partner and your other teammates. CIWITL Championship here we come!
URL:https://communitysw.com/event/2-5-ciwitl/2026-10-15/
CATEGORIES:Tennis
ATTACH;FMTTYPE=image/jpeg:https://communitysw.com/wp-content/uploads/2024/10/Y0A7035-copy-edited.jpg
END:VEVENT
BEGIN:VEVENT
DTSTART;TZID=America/Indiana/Indianapolis:20261022T093000
DTEND;TZID=America/Indiana/Indianapolis:20261022T110000
DTSTAMP:20260422T103419
CREATED:20250117T210234Z
LAST-MODIFIED:20250117T210237Z
UID:10002683-1792661400-1792666800@communitysw.com
SUMMARY:2.5 CIWITL
DESCRIPTION:Come ready to learn and compete! \n\n\n\nThis class is focused on stroke production and point construction. Learn to move and play as a team with your partner and your other teammates. CIWITL Championship here we come!
URL:https://communitysw.com/event/2-5-ciwitl/2026-10-22/
CATEGORIES:Tennis
ATTACH;FMTTYPE=image/jpeg:https://communitysw.com/wp-content/uploads/2024/10/Y0A7035-copy-edited.jpg
END:VEVENT
BEGIN:VEVENT
DTSTART;TZID=America/Indiana/Indianapolis:20261029T093000
DTEND;TZID=America/Indiana/Indianapolis:20261029T110000
DTSTAMP:20260422T103419
CREATED:20250117T210234Z
LAST-MODIFIED:20250117T210237Z
UID:10002684-1793266200-1793271600@communitysw.com
SUMMARY:2.5 CIWITL
DESCRIPTION:Come ready to learn and compete! \n\n\n\nThis class is focused on stroke production and point construction. Learn to move and play as a team with your partner and your other teammates. CIWITL Championship here we come!
URL:https://communitysw.com/event/2-5-ciwitl/2026-10-29/
CATEGORIES:Tennis
ATTACH;FMTTYPE=image/jpeg:https://communitysw.com/wp-content/uploads/2024/10/Y0A7035-copy-edited.jpg
END:VEVENT
BEGIN:VEVENT
DTSTART;TZID=America/Indiana/Indianapolis:20261105T093000
DTEND;TZID=America/Indiana/Indianapolis:20261105T110000
DTSTAMP:20260422T103419
CREATED:20250117T210234Z
LAST-MODIFIED:20250117T210237Z
UID:10002685-1793871000-1793876400@communitysw.com
SUMMARY:2.5 CIWITL
DESCRIPTION:Come ready to learn and compete! \n\n\n\nThis class is focused on stroke production and point construction. Learn to move and play as a team with your partner and your other teammates. CIWITL Championship here we come!
URL:https://communitysw.com/event/2-5-ciwitl/2026-11-05/
CATEGORIES:Tennis
ATTACH;FMTTYPE=image/jpeg:https://communitysw.com/wp-content/uploads/2024/10/Y0A7035-copy-edited.jpg
END:VEVENT
BEGIN:VEVENT
DTSTART;TZID=America/Indiana/Indianapolis:20261112T093000
DTEND;TZID=America/Indiana/Indianapolis:20261112T110000
DTSTAMP:20260422T103419
CREATED:20250117T210234Z
LAST-MODIFIED:20250117T210237Z
UID:10002686-1794475800-1794481200@communitysw.com
SUMMARY:2.5 CIWITL
DESCRIPTION:Come ready to learn and compete! \n\n\n\nThis class is focused on stroke production and point construction. Learn to move and play as a team with your partner and your other teammates. CIWITL Championship here we come!
URL:https://communitysw.com/event/2-5-ciwitl/2026-11-12/
CATEGORIES:Tennis
ATTACH;FMTTYPE=image/jpeg:https://communitysw.com/wp-content/uploads/2024/10/Y0A7035-copy-edited.jpg
END:VEVENT
BEGIN:VEVENT
DTSTART;TZID=America/Indiana/Indianapolis:20261119T093000
DTEND;TZID=America/Indiana/Indianapolis:20261119T110000
DTSTAMP:20260422T103419
CREATED:20250117T210234Z
LAST-MODIFIED:20250117T210237Z
UID:10002687-1795080600-1795086000@communitysw.com
SUMMARY:2.5 CIWITL
DESCRIPTION:Come ready to learn and compete! \n\n\n\nThis class is focused on stroke production and point construction. Learn to move and play as a team with your partner and your other teammates. CIWITL Championship here we come!
URL:https://communitysw.com/event/2-5-ciwitl/2026-11-19/
CATEGORIES:Tennis
ATTACH;FMTTYPE=image/jpeg:https://communitysw.com/wp-content/uploads/2024/10/Y0A7035-copy-edited.jpg
END:VEVENT
BEGIN:VEVENT
DTSTART;TZID=America/Indiana/Indianapolis:20261126T093000
DTEND;TZID=America/Indiana/Indianapolis:20261126T110000
DTSTAMP:20260422T103419
CREATED:20250117T210234Z
LAST-MODIFIED:20250117T210237Z
UID:10002688-1795685400-1795690800@communitysw.com
SUMMARY:2.5 CIWITL
DESCRIPTION:Come ready to learn and compete! \n\n\n\nThis class is focused on stroke production and point construction. Learn to move and play as a team with your partner and your other teammates. CIWITL Championship here we come!
URL:https://communitysw.com/event/2-5-ciwitl/2026-11-26/
CATEGORIES:Tennis
ATTACH;FMTTYPE=image/jpeg:https://communitysw.com/wp-content/uploads/2024/10/Y0A7035-copy-edited.jpg
END:VEVENT
BEGIN:VEVENT
DTSTART;TZID=America/Indiana/Indianapolis:20261203T093000
DTEND;TZID=America/Indiana/Indianapolis:20261203T110000
DTSTAMP:20260422T103419
CREATED:20250117T210234Z
LAST-MODIFIED:20250117T210237Z
UID:10002689-1796290200-1796295600@communitysw.com
SUMMARY:2.5 CIWITL
DESCRIPTION:Come ready to learn and compete! \n\n\n\nThis class is focused on stroke production and point construction. Learn to move and play as a team with your partner and your other teammates. CIWITL Championship here we come!
URL:https://communitysw.com/event/2-5-ciwitl/2026-12-03/
CATEGORIES:Tennis
ATTACH;FMTTYPE=image/jpeg:https://communitysw.com/wp-content/uploads/2024/10/Y0A7035-copy-edited.jpg
END:VEVENT
BEGIN:VEVENT
DTSTART;TZID=America/Indiana/Indianapolis:20261210T093000
DTEND;TZID=America/Indiana/Indianapolis:20261210T110000
DTSTAMP:20260422T103419
CREATED:20250117T210234Z
LAST-MODIFIED:20250117T210237Z
UID:10002690-1796895000-1796900400@communitysw.com
SUMMARY:2.5 CIWITL
DESCRIPTION:Come ready to learn and compete! \n\n\n\nThis class is focused on stroke production and point construction. Learn to move and play as a team with your partner and your other teammates. CIWITL Championship here we come!
URL:https://communitysw.com/event/2-5-ciwitl/2026-12-10/
CATEGORIES:Tennis
ATTACH;FMTTYPE=image/jpeg:https://communitysw.com/wp-content/uploads/2024/10/Y0A7035-copy-edited.jpg
END:VEVENT
BEGIN:VEVENT
DTSTART;TZID=America/Indiana/Indianapolis:20261217T093000
DTEND;TZID=America/Indiana/Indianapolis:20261217T110000
DTSTAMP:20260422T103419
CREATED:20250117T210234Z
LAST-MODIFIED:20250117T210237Z
UID:10002691-1797499800-1797505200@communitysw.com
SUMMARY:2.5 CIWITL
DESCRIPTION:Come ready to learn and compete! \n\n\n\nThis class is focused on stroke production and point construction. Learn to move and play as a team with your partner and your other teammates. CIWITL Championship here we come!
URL:https://communitysw.com/event/2-5-ciwitl/2026-12-17/
CATEGORIES:Tennis
ATTACH;FMTTYPE=image/jpeg:https://communitysw.com/wp-content/uploads/2024/10/Y0A7035-copy-edited.jpg
END:VEVENT
BEGIN:VEVENT
DTSTART;TZID=America/Indiana/Indianapolis:20261224T093000
DTEND;TZID=America/Indiana/Indianapolis:20261224T110000
DTSTAMP:20260422T103419
CREATED:20250117T210234Z
LAST-MODIFIED:20250117T210237Z
UID:10002692-1798104600-1798110000@communitysw.com
SUMMARY:2.5 CIWITL
DESCRIPTION:Come ready to learn and compete! \n\n\n\nThis class is focused on stroke production and point construction. Learn to move and play as a team with your partner and your other teammates. CIWITL Championship here we come!
URL:https://communitysw.com/event/2-5-ciwitl/2026-12-24/
CATEGORIES:Tennis
ATTACH;FMTTYPE=image/jpeg:https://communitysw.com/wp-content/uploads/2024/10/Y0A7035-copy-edited.jpg
END:VEVENT
BEGIN:VEVENT
DTSTART;TZID=America/Indiana/Indianapolis:20261231T093000
DTEND;TZID=America/Indiana/Indianapolis:20261231T110000
DTSTAMP:20260422T103419
CREATED:20250117T210234Z
LAST-MODIFIED:20250117T210237Z
UID:10002693-1798709400-1798714800@communitysw.com
SUMMARY:2.5 CIWITL
DESCRIPTION:Come ready to learn and compete! \n\n\n\nThis class is focused on stroke production and point construction. Learn to move and play as a team with your partner and your other teammates. CIWITL Championship here we come!
URL:https://communitysw.com/event/2-5-ciwitl/2026-12-31/
CATEGORIES:Tennis
ATTACH;FMTTYPE=image/jpeg:https://communitysw.com/wp-content/uploads/2024/10/Y0A7035-copy-edited.jpg
END:VEVENT
BEGIN:VEVENT
DTSTART;TZID=America/Indiana/Indianapolis:20270107T093000
DTEND;TZID=America/Indiana/Indianapolis:20270107T110000
DTSTAMP:20260422T103419
CREATED:20250117T210234Z
LAST-MODIFIED:20250117T210237Z
UID:10002694-1799314200-1799319600@communitysw.com
SUMMARY:2.5 CIWITL
DESCRIPTION:Come ready to learn and compete! \n\n\n\nThis class is focused on stroke production and point construction. Learn to move and play as a team with your partner and your other teammates. CIWITL Championship here we come!
URL:https://communitysw.com/event/2-5-ciwitl/2027-01-07/
CATEGORIES:Tennis
ATTACH;FMTTYPE=image/jpeg:https://communitysw.com/wp-content/uploads/2024/10/Y0A7035-copy-edited.jpg
END:VEVENT
BEGIN:VEVENT
DTSTART;TZID=America/Indiana/Indianapolis:20270114T093000
DTEND;TZID=America/Indiana/Indianapolis:20270114T110000
DTSTAMP:20260422T103419
CREATED:20250117T210234Z
LAST-MODIFIED:20250117T210237Z
UID:10002695-1799919000-1799924400@communitysw.com
SUMMARY:2.5 CIWITL
DESCRIPTION:Come ready to learn and compete! \n\n\n\nThis class is focused on stroke production and point construction. Learn to move and play as a team with your partner and your other teammates. CIWITL Championship here we come!
URL:https://communitysw.com/event/2-5-ciwitl/2027-01-14/
CATEGORIES:Tennis
ATTACH;FMTTYPE=image/jpeg:https://communitysw.com/wp-content/uploads/2024/10/Y0A7035-copy-edited.jpg
END:VEVENT
BEGIN:VEVENT
DTSTART;TZID=America/Indiana/Indianapolis:20270121T093000
DTEND;TZID=America/Indiana/Indianapolis:20270121T110000
DTSTAMP:20260422T103419
CREATED:20250117T210234Z
LAST-MODIFIED:20250117T210237Z
UID:10002696-1800523800-1800529200@communitysw.com
SUMMARY:2.5 CIWITL
DESCRIPTION:Come ready to learn and compete! \n\n\n\nThis class is focused on stroke production and point construction. Learn to move and play as a team with your partner and your other teammates. CIWITL Championship here we come!
URL:https://communitysw.com/event/2-5-ciwitl/2027-01-21/
CATEGORIES:Tennis
ATTACH;FMTTYPE=image/jpeg:https://communitysw.com/wp-content/uploads/2024/10/Y0A7035-copy-edited.jpg
END:VEVENT
BEGIN:VEVENT
DTSTART;TZID=America/Indiana/Indianapolis:20270128T093000
DTEND;TZID=America/Indiana/Indianapolis:20270128T110000
DTSTAMP:20260422T103419
CREATED:20250117T210234Z
LAST-MODIFIED:20250117T210237Z
UID:10002697-1801128600-1801134000@communitysw.com
SUMMARY:2.5 CIWITL
DESCRIPTION:Come ready to learn and compete! \n\n\n\nThis class is focused on stroke production and point construction. Learn to move and play as a team with your partner and your other teammates. CIWITL Championship here we come!
URL:https://communitysw.com/event/2-5-ciwitl/2027-01-28/
CATEGORIES:Tennis
ATTACH;FMTTYPE=image/jpeg:https://communitysw.com/wp-content/uploads/2024/10/Y0A7035-copy-edited.jpg
END:VEVENT
BEGIN:VEVENT
DTSTART;TZID=America/Indiana/Indianapolis:20270204T093000
DTEND;TZID=America/Indiana/Indianapolis:20270204T110000
DTSTAMP:20260422T103419
CREATED:20250117T210234Z
LAST-MODIFIED:20250117T210237Z
UID:10002698-1801733400-1801738800@communitysw.com
SUMMARY:2.5 CIWITL
DESCRIPTION:Come ready to learn and compete! \n\n\n\nThis class is focused on stroke production and point construction. Learn to move and play as a team with your partner and your other teammates. CIWITL Championship here we come!
URL:https://communitysw.com/event/2-5-ciwitl/2027-02-04/
CATEGORIES:Tennis
ATTACH;FMTTYPE=image/jpeg:https://communitysw.com/wp-content/uploads/2024/10/Y0A7035-copy-edited.jpg
END:VEVENT
BEGIN:VEVENT
DTSTART;TZID=America/Indiana/Indianapolis:20270211T093000
DTEND;TZID=America/Indiana/Indianapolis:20270211T110000
DTSTAMP:20260422T103419
CREATED:20250117T210234Z
LAST-MODIFIED:20250117T210237Z
UID:10002699-1802338200-1802343600@communitysw.com
SUMMARY:2.5 CIWITL
DESCRIPTION:Come ready to learn and compete! \n\n\n\nThis class is focused on stroke production and point construction. Learn to move and play as a team with your partner and your other teammates. CIWITL Championship here we come!
URL:https://communitysw.com/event/2-5-ciwitl/2027-02-11/
CATEGORIES:Tennis
ATTACH;FMTTYPE=image/jpeg:https://communitysw.com/wp-content/uploads/2024/10/Y0A7035-copy-edited.jpg
END:VEVENT
BEGIN:VEVENT
DTSTART;TZID=America/Indiana/Indianapolis:20270218T093000
DTEND;TZID=America/Indiana/Indianapolis:20270218T110000
DTSTAMP:20260422T103419
CREATED:20250117T210234Z
LAST-MODIFIED:20250117T210237Z
UID:10002700-1802943000-1802948400@communitysw.com
SUMMARY:2.5 CIWITL
DESCRIPTION:Come ready to learn and compete! \n\n\n\nThis class is focused on stroke production and point construction. Learn to move and play as a team with your partner and your other teammates. CIWITL Championship here we come!
URL:https://communitysw.com/event/2-5-ciwitl/2027-02-18/
CATEGORIES:Tennis
ATTACH;FMTTYPE=image/jpeg:https://communitysw.com/wp-content/uploads/2024/10/Y0A7035-copy-edited.jpg
END:VEVENT
BEGIN:VEVENT
DTSTART;TZID=America/Indiana/Indianapolis:20270225T093000
DTEND;TZID=America/Indiana/Indianapolis:20270225T110000
DTSTAMP:20260422T103419
CREATED:20250117T210234Z
LAST-MODIFIED:20250117T210237Z
UID:10002701-1803547800-1803553200@communitysw.com
SUMMARY:2.5 CIWITL
DESCRIPTION:Come ready to learn and compete! \n\n\n\nThis class is focused on stroke production and point construction. Learn to move and play as a team with your partner and your other teammates. CIWITL Championship here we come!
URL:https://communitysw.com/event/2-5-ciwitl/2027-02-25/
CATEGORIES:Tennis
ATTACH;FMTTYPE=image/jpeg:https://communitysw.com/wp-content/uploads/2024/10/Y0A7035-copy-edited.jpg
END:VEVENT
BEGIN:VEVENT
DTSTART;TZID=America/Indiana/Indianapolis:20270304T093000
DTEND;TZID=America/Indiana/Indianapolis:20270304T110000
DTSTAMP:20260422T103419
CREATED:20250117T210234Z
LAST-MODIFIED:20250117T210237Z
UID:10002702-1804152600-1804158000@communitysw.com
SUMMARY:2.5 CIWITL
DESCRIPTION:Come ready to learn and compete! \n\n\n\nThis class is focused on stroke production and point construction. Learn to move and play as a team with your partner and your other teammates. CIWITL Championship here we come!
URL:https://communitysw.com/event/2-5-ciwitl/2027-03-04/
CATEGORIES:Tennis
ATTACH;FMTTYPE=image/jpeg:https://communitysw.com/wp-content/uploads/2024/10/Y0A7035-copy-edited.jpg
END:VEVENT
BEGIN:VEVENT
DTSTART;TZID=America/Indiana/Indianapolis:20270311T093000
DTEND;TZID=America/Indiana/Indianapolis:20270311T110000
DTSTAMP:20260422T103419
CREATED:20250117T210234Z
LAST-MODIFIED:20250117T210237Z
UID:10002703-1804757400-1804762800@communitysw.com
SUMMARY:2.5 CIWITL
DESCRIPTION:Come ready to learn and compete! \n\n\n\nThis class is focused on stroke production and point construction. Learn to move and play as a team with your partner and your other teammates. CIWITL Championship here we come!
URL:https://communitysw.com/event/2-5-ciwitl/2027-03-11/
CATEGORIES:Tennis
ATTACH;FMTTYPE=image/jpeg:https://communitysw.com/wp-content/uploads/2024/10/Y0A7035-copy-edited.jpg
END:VEVENT
BEGIN:VEVENT
DTSTART;TZID=America/Indiana/Indianapolis:20270318T093000
DTEND;TZID=America/Indiana/Indianapolis:20270318T110000
DTSTAMP:20260422T103419
CREATED:20250117T210234Z
LAST-MODIFIED:20250117T210237Z
UID:10002704-1805362200-1805367600@communitysw.com
SUMMARY:2.5 CIWITL
DESCRIPTION:Come ready to learn and compete! \n\n\n\nThis class is focused on stroke production and point construction. Learn to move and play as a team with your partner and your other teammates. CIWITL Championship here we come!
URL:https://communitysw.com/event/2-5-ciwitl/2027-03-18/
CATEGORIES:Tennis
ATTACH;FMTTYPE=image/jpeg:https://communitysw.com/wp-content/uploads/2024/10/Y0A7035-copy-edited.jpg
END:VEVENT
BEGIN:VEVENT
DTSTART;TZID=America/Indiana/Indianapolis:20270325T093000
DTEND;TZID=America/Indiana/Indianapolis:20270325T110000
DTSTAMP:20260422T103419
CREATED:20250117T210234Z
LAST-MODIFIED:20250117T210237Z
UID:10002705-1805967000-1805972400@communitysw.com
SUMMARY:2.5 CIWITL
DESCRIPTION:Come ready to learn and compete! \n\n\n\nThis class is focused on stroke production and point construction. Learn to move and play as a team with your partner and your other teammates. CIWITL Championship here we come!
URL:https://communitysw.com/event/2-5-ciwitl/2027-03-25/
CATEGORIES:Tennis
ATTACH;FMTTYPE=image/jpeg:https://communitysw.com/wp-content/uploads/2024/10/Y0A7035-copy-edited.jpg
END:VEVENT
BEGIN:VEVENT
DTSTART;TZID=America/Indiana/Indianapolis:20270401T093000
DTEND;TZID=America/Indiana/Indianapolis:20270401T110000
DTSTAMP:20260422T103419
CREATED:20250117T210234Z
LAST-MODIFIED:20250117T210237Z
UID:10002706-1806571800-1806577200@communitysw.com
SUMMARY:2.5 CIWITL
DESCRIPTION:Come ready to learn and compete! \n\n\n\nThis class is focused on stroke production and point construction. Learn to move and play as a team with your partner and your other teammates. CIWITL Championship here we come!
URL:https://communitysw.com/event/2-5-ciwitl/2027-04-01/
CATEGORIES:Tennis
ATTACH;FMTTYPE=image/jpeg:https://communitysw.com/wp-content/uploads/2024/10/Y0A7035-copy-edited.jpg
END:VEVENT
BEGIN:VEVENT
DTSTART;TZID=America/Indiana/Indianapolis:20270408T093000
DTEND;TZID=America/Indiana/Indianapolis:20270408T110000
DTSTAMP:20260422T103419
CREATED:20250117T210234Z
LAST-MODIFIED:20250117T210237Z
UID:10002707-1807176600-1807182000@communitysw.com
SUMMARY:2.5 CIWITL
DESCRIPTION:Come ready to learn and compete! \n\n\n\nThis class is focused on stroke production and point construction. Learn to move and play as a team with your partner and your other teammates. CIWITL Championship here we come!
URL:https://communitysw.com/event/2-5-ciwitl/2027-04-08/
CATEGORIES:Tennis
ATTACH;FMTTYPE=image/jpeg:https://communitysw.com/wp-content/uploads/2024/10/Y0A7035-copy-edited.jpg
END:VEVENT
BEGIN:VEVENT
DTSTART;TZID=America/Indiana/Indianapolis:20270415T093000
DTEND;TZID=America/Indiana/Indianapolis:20270415T110000
DTSTAMP:20260422T103419
CREATED:20250117T210234Z
LAST-MODIFIED:20250117T210237Z
UID:10002708-1807781400-1807786800@communitysw.com
SUMMARY:2.5 CIWITL
DESCRIPTION:Come ready to learn and compete! \n\n\n\nThis class is focused on stroke production and point construction. Learn to move and play as a team with your partner and your other teammates. CIWITL Championship here we come!
URL:https://communitysw.com/event/2-5-ciwitl/2027-04-15/
CATEGORIES:Tennis
ATTACH;FMTTYPE=image/jpeg:https://communitysw.com/wp-content/uploads/2024/10/Y0A7035-copy-edited.jpg
END:VEVENT
BEGIN:VEVENT
DTSTART;TZID=America/Indiana/Indianapolis:20270422T093000
DTEND;TZID=America/Indiana/Indianapolis:20270422T110000
DTSTAMP:20260422T103419
CREATED:20250117T210234Z
LAST-MODIFIED:20250117T210237Z
UID:10002709-1808386200-1808391600@communitysw.com
SUMMARY:2.5 CIWITL
DESCRIPTION:Come ready to learn and compete! \n\n\n\nThis class is focused on stroke production and point construction. Learn to move and play as a team with your partner and your other teammates. CIWITL Championship here we come!
URL:https://communitysw.com/event/2-5-ciwitl/2027-04-22/
CATEGORIES:Tennis
ATTACH;FMTTYPE=image/jpeg:https://communitysw.com/wp-content/uploads/2024/10/Y0A7035-copy-edited.jpg
END:VEVENT
BEGIN:VEVENT
DTSTART;TZID=America/Indiana/Indianapolis:20270429T093000
DTEND;TZID=America/Indiana/Indianapolis:20270429T110000
DTSTAMP:20260422T103419
CREATED:20250117T210234Z
LAST-MODIFIED:20250117T210237Z
UID:10002710-1808991000-1808996400@communitysw.com
SUMMARY:2.5 CIWITL
DESCRIPTION:Come ready to learn and compete! \n\n\n\nThis class is focused on stroke production and point construction. Learn to move and play as a team with your partner and your other teammates. CIWITL Championship here we come!
URL:https://communitysw.com/event/2-5-ciwitl/2027-04-29/
CATEGORIES:Tennis
ATTACH;FMTTYPE=image/jpeg:https://communitysw.com/wp-content/uploads/2024/10/Y0A7035-copy-edited.jpg
END:VEVENT
END:VCALENDAR