BEGIN:VCALENDAR
VERSION:2.0
PRODID:-//Community Sports and Wellness - ECPv6.15.17.1//NONSGML v1.0//EN
CALSCALE:GREGORIAN
METHOD:PUBLISH
X-ORIGINAL-URL:https://communitysw.com
X-WR-CALDESC:Events for Community Sports and Wellness
REFRESH-INTERVAL;VALUE=DURATION:PT1H
X-Robots-Tag:noindex
X-PUBLISHED-TTL:PT1H
BEGIN:VTIMEZONE
TZID:America/Indiana/Indianapolis
BEGIN:DAYLIGHT
TZOFFSETFROM:-0500
TZOFFSETTO:-0400
TZNAME:EDT
DTSTART:20250309T070000
END:DAYLIGHT
BEGIN:STANDARD
TZOFFSETFROM:-0400
TZOFFSETTO:-0500
TZNAME:EST
DTSTART:20251102T060000
END:STANDARD
BEGIN:DAYLIGHT
TZOFFSETFROM:-0500
TZOFFSETTO:-0400
TZNAME:EDT
DTSTART:20260308T070000
END:DAYLIGHT
BEGIN:STANDARD
TZOFFSETFROM:-0400
TZOFFSETTO:-0500
TZNAME:EST
DTSTART:20261101T060000
END:STANDARD
BEGIN:DAYLIGHT
TZOFFSETFROM:-0500
TZOFFSETTO:-0400
TZNAME:EDT
DTSTART:20270314T070000
END:DAYLIGHT
BEGIN:STANDARD
TZOFFSETFROM:-0400
TZOFFSETTO:-0500
TZNAME:EST
DTSTART:20271107T060000
END:STANDARD
BEGIN:DAYLIGHT
TZOFFSETFROM:-0500
TZOFFSETTO:-0400
TZNAME:EDT
DTSTART:20280312T070000
END:DAYLIGHT
BEGIN:STANDARD
TZOFFSETFROM:-0400
TZOFFSETTO:-0500
TZNAME:EST
DTSTART:20281105T060000
END:STANDARD
END:VTIMEZONE
BEGIN:VEVENT
DTSTART;TZID=America/Indiana/Indianapolis:20261221T100000
DTEND;TZID=America/Indiana/Indianapolis:20261221T110000
DTSTAMP:20260419T130232
CREATED:20250117T203332Z
LAST-MODIFIED:20250117T204441Z
UID:10001487-1797847200-1797850800@communitysw.com
SUMMARY:Cardio Tennis
DESCRIPTION:This class is a nationwide fitness and tennis program from TIA (Tennis Industry Association) that promises “heart-pumping fitness”. The session includes a warm-up\, cardio workout\, great music\, and a chance to improve your game.
URL:https://communitysw.com/event/cardio-tennis/2026-12-21/
CATEGORIES:Tennis
ATTACH;FMTTYPE=image/jpeg:https://communitysw.com/wp-content/uploads/2024/10/Y0A7035-copy-edited.jpg
END:VEVENT
BEGIN:VEVENT
DTSTART;TZID=America/Indiana/Indianapolis:20261221T173000
DTEND;TZID=America/Indiana/Indianapolis:20261221T183000
DTSTAMP:20260419T130232
CREATED:20250117T204122Z
LAST-MODIFIED:20250117T204254Z
UID:10001909-1797874200-1797877800@communitysw.com
SUMMARY:Cardio Tennis
DESCRIPTION:This class is a nationwide fitness and tennis program from TIA (Tennis Industry Association) that promises “heart-pumping fitness”. The session includes a warm-up\, cardio workout\, great music\, and a chance to improve your game.
URL:https://communitysw.com/event/cardio-tennis-2/2026-12-21/
CATEGORIES:Tennis
ATTACH;FMTTYPE=image/jpeg:https://communitysw.com/wp-content/uploads/2024/10/Y0A7035-copy-edited.jpg
END:VEVENT
BEGIN:VEVENT
DTSTART;TZID=America/Indiana/Indianapolis:20261222T100000
DTEND;TZID=America/Indiana/Indianapolis:20261222T113000
DTSTAMP:20260419T130232
CREATED:20250117T204836Z
LAST-MODIFIED:20250117T204840Z
UID:10002170-1797933600-1797939000@communitysw.com
SUMMARY:4.0 CIWITL
DESCRIPTION:Come ready to learn and compete! \n\n\n\nThis class is focused on stroke production and point construction. Learn to move and play as a team with your partner and your other teammates. CIWITL Championship here we come!
URL:https://communitysw.com/event/4-0-ciwitl/2026-12-22/
CATEGORIES:Tennis
END:VEVENT
BEGIN:VEVENT
DTSTART;TZID=America/Indiana/Indianapolis:20261223T080000
DTEND;TZID=America/Indiana/Indianapolis:20261223T093000
DTSTAMP:20260419T130232
CREATED:20250117T210002Z
LAST-MODIFIED:20250117T210005Z
UID:10002431-1798012800-1798018200@communitysw.com
SUMMARY:Adult 3.0/3.5 Mixed Clinic
DESCRIPTION:Classes vary by rating and structure. These classes are focused on point play and fun! There is an emphasis on technique and incorporating strokes\, movement\, positioning and placement. Tactics and strategy taught in the appropriate format.
URL:https://communitysw.com/event/adult-3-0-3-5-mixed-clinic/2026-12-23/
CATEGORIES:Tennis
ATTACH;FMTTYPE=image/jpeg:https://communitysw.com/wp-content/uploads/2024/10/Y0A7035-copy-edited.jpg
END:VEVENT
BEGIN:VEVENT
DTSTART;TZID=America/Indiana/Indianapolis:20261223T100000
DTEND;TZID=America/Indiana/Indianapolis:20261223T110000
DTSTAMP:20260419T130232
CREATED:20250117T203332Z
LAST-MODIFIED:20250117T204441Z
UID:10001488-1798020000-1798023600@communitysw.com
SUMMARY:Cardio Tennis
DESCRIPTION:This class is a nationwide fitness and tennis program from TIA (Tennis Industry Association) that promises “heart-pumping fitness”. The session includes a warm-up\, cardio workout\, great music\, and a chance to improve your game.
URL:https://communitysw.com/event/cardio-tennis/2026-12-23/
CATEGORIES:Tennis
ATTACH;FMTTYPE=image/jpeg:https://communitysw.com/wp-content/uploads/2024/10/Y0A7035-copy-edited.jpg
END:VEVENT
BEGIN:VEVENT
DTSTART;TZID=America/Indiana/Indianapolis:20261224T093000
DTEND;TZID=America/Indiana/Indianapolis:20261224T110000
DTSTAMP:20260419T130232
CREATED:20250117T210234Z
LAST-MODIFIED:20250117T210237Z
UID:10002692-1798104600-1798110000@communitysw.com
SUMMARY:2.5 CIWITL
DESCRIPTION:Come ready to learn and compete! \n\n\n\nThis class is focused on stroke production and point construction. Learn to move and play as a team with your partner and your other teammates. CIWITL Championship here we come!
URL:https://communitysw.com/event/2-5-ciwitl/2026-12-24/
CATEGORIES:Tennis
ATTACH;FMTTYPE=image/jpeg:https://communitysw.com/wp-content/uploads/2024/10/Y0A7035-copy-edited.jpg
END:VEVENT
BEGIN:VEVENT
DTSTART;TZID=America/Indiana/Indianapolis:20261224T183000
DTEND;TZID=America/Indiana/Indianapolis:20261224T203000
DTSTAMP:20260419T130232
CREATED:20250117T210521Z
LAST-MODIFIED:20250117T210526Z
UID:10002953-1798137000-1798144200@communitysw.com
SUMMARY:4.0+ Womens Clinic
DESCRIPTION:Classes vary by rating and structure. \n\n\n\nThese classes are focused on point play and fun! There is an emphasis on technique and incorporating strokes\, movement\, positioning and placement. Tactics and strategy taught in the appropriate format.
URL:https://communitysw.com/event/4-0-womens-clinic/2026-12-24/
CATEGORIES:Tennis
ATTACH;FMTTYPE=image/jpeg:https://communitysw.com/wp-content/uploads/2024/10/Y0A7035-copy-edited.jpg
END:VEVENT
BEGIN:VEVENT
DTSTART;TZID=America/Indiana/Indianapolis:20261225T080000
DTEND;TZID=America/Indiana/Indianapolis:20261225T093000
DTSTAMP:20260419T130232
CREATED:20250117T210733Z
LAST-MODIFIED:20250117T210737Z
UID:10003214-1798185600-1798191000@communitysw.com
SUMMARY:3.0/3.5 Men's Cardio & Drills
DESCRIPTION:Classes vary by rating and structure. \n\n\n\nThese classes are focused on point play and fun! There is an emphasis on technique and incorporating strokes\, movement\, positioning and placement. Tactics and strategy taught in the appropriate format.
URL:https://communitysw.com/event/3-0-3-5-mens-cardio-drills/2026-12-25/
CATEGORIES:Tennis
ATTACH;FMTTYPE=image/jpeg:https://communitysw.com/wp-content/uploads/2024/10/Y0A7035-copy-edited.jpg
END:VEVENT
BEGIN:VEVENT
DTSTART;TZID=America/Indiana/Indianapolis:20261225T090000
DTEND;TZID=America/Indiana/Indianapolis:20261225T100000
DTSTAMP:20260419T130232
CREATED:20250117T211005Z
LAST-MODIFIED:20250117T211009Z
UID:10003474-1798189200-1798192800@communitysw.com
SUMMARY:Tennis U 101
DESCRIPTION:Picking up a racquet for the first time? Or are you looking to refine your technique\, this class is for you. \n\n\n\nYou will learn technique\, strategies\, and skills like serving and volley grips.
URL:https://communitysw.com/event/tennis-u-101/2026-12-25/
CATEGORIES:Tennis
ATTACH;FMTTYPE=image/jpeg:https://communitysw.com/wp-content/uploads/2024/10/Y0A7035-copy-edited.jpg
END:VEVENT
BEGIN:VEVENT
DTSTART;TZID=America/Indiana/Indianapolis:20261225T093000
DTEND;TZID=America/Indiana/Indianapolis:20261225T110000
DTSTAMP:20260419T130232
CREATED:20250117T211212Z
LAST-MODIFIED:20250117T211215Z
UID:10003734-1798191000-1798196400@communitysw.com
SUMMARY:Cardio Tennis
DESCRIPTION:This class is a nationwide fitness and tennis program from TIA (Tennis Industry Association) that promises “heart-pumping fitness.” The session includes a warm-up\, cardio workout\, great music\, and a chance to improve your game.
URL:https://communitysw.com/event/cardio-tennis-3/2026-12-25/
CATEGORIES:Tennis
ATTACH;FMTTYPE=image/jpeg:https://communitysw.com/wp-content/uploads/2024/10/Y0A7035-copy-edited.jpg
END:VEVENT
BEGIN:VEVENT
DTSTART;TZID=America/Indiana/Indianapolis:20261225T110000
DTEND;TZID=America/Indiana/Indianapolis:20261225T123000
DTSTAMP:20260419T130232
CREATED:20250117T211427Z
LAST-MODIFIED:20250117T211434Z
UID:10003994-1798196400-1798201800@communitysw.com
SUMMARY:3.0/3.5 CIWITL
DESCRIPTION:Come ready to learn and compete! \n\n\n\nThis class is focused on stroke production and point construction. Learn to move and play as a team with your partner and your other teammates. CIWITL Championship here we come!
URL:https://communitysw.com/event/3-0-3-5-ciwitl/2026-12-25/
CATEGORIES:Tennis
ATTACH;FMTTYPE=image/jpeg:https://communitysw.com/wp-content/uploads/2024/10/Y0A7035-copy-edited.jpg
END:VEVENT
BEGIN:VEVENT
DTSTART;TZID=America/Indiana/Indianapolis:20261226T080000
DTEND;TZID=America/Indiana/Indianapolis:20261226T090000
DTSTAMP:20260419T130232
CREATED:20250117T211631Z
LAST-MODIFIED:20250117T211634Z
UID:10004255-1798272000-1798275600@communitysw.com
SUMMARY:Cardio Tennis
DESCRIPTION:This class is a nationwide fitness and tennis program from TIA (Tennis Industry Association) that promises “heart-pumping fitness.” The session includes a warm-up\, cardio workout\, great music\, and a chance to improve your game.
URL:https://communitysw.com/event/cardio-tennis-4/2026-12-26/
CATEGORIES:Tennis
ATTACH;FMTTYPE=image/jpeg:https://communitysw.com/wp-content/uploads/2024/10/Y0A7035-copy-edited.jpg
END:VEVENT
BEGIN:VEVENT
DTSTART;TZID=America/Indiana/Indianapolis:20261228T100000
DTEND;TZID=America/Indiana/Indianapolis:20261228T110000
DTSTAMP:20260419T130232
CREATED:20250117T203332Z
LAST-MODIFIED:20250117T204441Z
UID:10001489-1798452000-1798455600@communitysw.com
SUMMARY:Cardio Tennis
DESCRIPTION:This class is a nationwide fitness and tennis program from TIA (Tennis Industry Association) that promises “heart-pumping fitness”. The session includes a warm-up\, cardio workout\, great music\, and a chance to improve your game.
URL:https://communitysw.com/event/cardio-tennis/2026-12-28/
CATEGORIES:Tennis
ATTACH;FMTTYPE=image/jpeg:https://communitysw.com/wp-content/uploads/2024/10/Y0A7035-copy-edited.jpg
END:VEVENT
BEGIN:VEVENT
DTSTART;TZID=America/Indiana/Indianapolis:20261228T173000
DTEND;TZID=America/Indiana/Indianapolis:20261228T183000
DTSTAMP:20260419T130232
CREATED:20250117T204122Z
LAST-MODIFIED:20250117T204254Z
UID:10001910-1798479000-1798482600@communitysw.com
SUMMARY:Cardio Tennis
DESCRIPTION:This class is a nationwide fitness and tennis program from TIA (Tennis Industry Association) that promises “heart-pumping fitness”. The session includes a warm-up\, cardio workout\, great music\, and a chance to improve your game.
URL:https://communitysw.com/event/cardio-tennis-2/2026-12-28/
CATEGORIES:Tennis
ATTACH;FMTTYPE=image/jpeg:https://communitysw.com/wp-content/uploads/2024/10/Y0A7035-copy-edited.jpg
END:VEVENT
BEGIN:VEVENT
DTSTART;TZID=America/Indiana/Indianapolis:20261229T100000
DTEND;TZID=America/Indiana/Indianapolis:20261229T113000
DTSTAMP:20260419T130232
CREATED:20250117T204836Z
LAST-MODIFIED:20250117T204840Z
UID:10002171-1798538400-1798543800@communitysw.com
SUMMARY:4.0 CIWITL
DESCRIPTION:Come ready to learn and compete! \n\n\n\nThis class is focused on stroke production and point construction. Learn to move and play as a team with your partner and your other teammates. CIWITL Championship here we come!
URL:https://communitysw.com/event/4-0-ciwitl/2026-12-29/
CATEGORIES:Tennis
END:VEVENT
BEGIN:VEVENT
DTSTART;TZID=America/Indiana/Indianapolis:20261230T080000
DTEND;TZID=America/Indiana/Indianapolis:20261230T093000
DTSTAMP:20260419T130232
CREATED:20250117T210002Z
LAST-MODIFIED:20250117T210005Z
UID:10002432-1798617600-1798623000@communitysw.com
SUMMARY:Adult 3.0/3.5 Mixed Clinic
DESCRIPTION:Classes vary by rating and structure. These classes are focused on point play and fun! There is an emphasis on technique and incorporating strokes\, movement\, positioning and placement. Tactics and strategy taught in the appropriate format.
URL:https://communitysw.com/event/adult-3-0-3-5-mixed-clinic/2026-12-30/
CATEGORIES:Tennis
ATTACH;FMTTYPE=image/jpeg:https://communitysw.com/wp-content/uploads/2024/10/Y0A7035-copy-edited.jpg
END:VEVENT
BEGIN:VEVENT
DTSTART;TZID=America/Indiana/Indianapolis:20261230T100000
DTEND;TZID=America/Indiana/Indianapolis:20261230T110000
DTSTAMP:20260419T130232
CREATED:20250117T203332Z
LAST-MODIFIED:20250117T204441Z
UID:10001490-1798624800-1798628400@communitysw.com
SUMMARY:Cardio Tennis
DESCRIPTION:This class is a nationwide fitness and tennis program from TIA (Tennis Industry Association) that promises “heart-pumping fitness”. The session includes a warm-up\, cardio workout\, great music\, and a chance to improve your game.
URL:https://communitysw.com/event/cardio-tennis/2026-12-30/
CATEGORIES:Tennis
ATTACH;FMTTYPE=image/jpeg:https://communitysw.com/wp-content/uploads/2024/10/Y0A7035-copy-edited.jpg
END:VEVENT
BEGIN:VEVENT
DTSTART;TZID=America/Indiana/Indianapolis:20261231T093000
DTEND;TZID=America/Indiana/Indianapolis:20261231T110000
DTSTAMP:20260419T130232
CREATED:20250117T210234Z
LAST-MODIFIED:20250117T210237Z
UID:10002693-1798709400-1798714800@communitysw.com
SUMMARY:2.5 CIWITL
DESCRIPTION:Come ready to learn and compete! \n\n\n\nThis class is focused on stroke production and point construction. Learn to move and play as a team with your partner and your other teammates. CIWITL Championship here we come!
URL:https://communitysw.com/event/2-5-ciwitl/2026-12-31/
CATEGORIES:Tennis
ATTACH;FMTTYPE=image/jpeg:https://communitysw.com/wp-content/uploads/2024/10/Y0A7035-copy-edited.jpg
END:VEVENT
BEGIN:VEVENT
DTSTART;TZID=America/Indiana/Indianapolis:20261231T183000
DTEND;TZID=America/Indiana/Indianapolis:20261231T203000
DTSTAMP:20260419T130232
CREATED:20250117T210521Z
LAST-MODIFIED:20250117T210526Z
UID:10002954-1798741800-1798749000@communitysw.com
SUMMARY:4.0+ Womens Clinic
DESCRIPTION:Classes vary by rating and structure. \n\n\n\nThese classes are focused on point play and fun! There is an emphasis on technique and incorporating strokes\, movement\, positioning and placement. Tactics and strategy taught in the appropriate format.
URL:https://communitysw.com/event/4-0-womens-clinic/2026-12-31/
CATEGORIES:Tennis
ATTACH;FMTTYPE=image/jpeg:https://communitysw.com/wp-content/uploads/2024/10/Y0A7035-copy-edited.jpg
END:VEVENT
BEGIN:VEVENT
DTSTART;TZID=America/Indiana/Indianapolis:20270101T080000
DTEND;TZID=America/Indiana/Indianapolis:20270101T093000
DTSTAMP:20260419T130232
CREATED:20250117T210733Z
LAST-MODIFIED:20250117T210737Z
UID:10003215-1798790400-1798795800@communitysw.com
SUMMARY:3.0/3.5 Men's Cardio & Drills
DESCRIPTION:Classes vary by rating and structure. \n\n\n\nThese classes are focused on point play and fun! There is an emphasis on technique and incorporating strokes\, movement\, positioning and placement. Tactics and strategy taught in the appropriate format.
URL:https://communitysw.com/event/3-0-3-5-mens-cardio-drills/2027-01-01/
CATEGORIES:Tennis
ATTACH;FMTTYPE=image/jpeg:https://communitysw.com/wp-content/uploads/2024/10/Y0A7035-copy-edited.jpg
END:VEVENT
BEGIN:VEVENT
DTSTART;TZID=America/Indiana/Indianapolis:20270101T090000
DTEND;TZID=America/Indiana/Indianapolis:20270101T100000
DTSTAMP:20260419T130232
CREATED:20250117T211005Z
LAST-MODIFIED:20250117T211009Z
UID:10003475-1798794000-1798797600@communitysw.com
SUMMARY:Tennis U 101
DESCRIPTION:Picking up a racquet for the first time? Or are you looking to refine your technique\, this class is for you. \n\n\n\nYou will learn technique\, strategies\, and skills like serving and volley grips.
URL:https://communitysw.com/event/tennis-u-101/2027-01-01/
CATEGORIES:Tennis
ATTACH;FMTTYPE=image/jpeg:https://communitysw.com/wp-content/uploads/2024/10/Y0A7035-copy-edited.jpg
END:VEVENT
BEGIN:VEVENT
DTSTART;TZID=America/Indiana/Indianapolis:20270101T093000
DTEND;TZID=America/Indiana/Indianapolis:20270101T110000
DTSTAMP:20260419T130232
CREATED:20250117T211212Z
LAST-MODIFIED:20250117T211215Z
UID:10003735-1798795800-1798801200@communitysw.com
SUMMARY:Cardio Tennis
DESCRIPTION:This class is a nationwide fitness and tennis program from TIA (Tennis Industry Association) that promises “heart-pumping fitness.” The session includes a warm-up\, cardio workout\, great music\, and a chance to improve your game.
URL:https://communitysw.com/event/cardio-tennis-3/2027-01-01/
CATEGORIES:Tennis
ATTACH;FMTTYPE=image/jpeg:https://communitysw.com/wp-content/uploads/2024/10/Y0A7035-copy-edited.jpg
END:VEVENT
BEGIN:VEVENT
DTSTART;TZID=America/Indiana/Indianapolis:20270101T110000
DTEND;TZID=America/Indiana/Indianapolis:20270101T123000
DTSTAMP:20260419T130232
CREATED:20250117T211427Z
LAST-MODIFIED:20250117T211434Z
UID:10003995-1798801200-1798806600@communitysw.com
SUMMARY:3.0/3.5 CIWITL
DESCRIPTION:Come ready to learn and compete! \n\n\n\nThis class is focused on stroke production and point construction. Learn to move and play as a team with your partner and your other teammates. CIWITL Championship here we come!
URL:https://communitysw.com/event/3-0-3-5-ciwitl/2027-01-01/
CATEGORIES:Tennis
ATTACH;FMTTYPE=image/jpeg:https://communitysw.com/wp-content/uploads/2024/10/Y0A7035-copy-edited.jpg
END:VEVENT
BEGIN:VEVENT
DTSTART;TZID=America/Indiana/Indianapolis:20270102T080000
DTEND;TZID=America/Indiana/Indianapolis:20270102T090000
DTSTAMP:20260419T130232
CREATED:20250117T211631Z
LAST-MODIFIED:20250117T211634Z
UID:10004256-1798876800-1798880400@communitysw.com
SUMMARY:Cardio Tennis
DESCRIPTION:This class is a nationwide fitness and tennis program from TIA (Tennis Industry Association) that promises “heart-pumping fitness.” The session includes a warm-up\, cardio workout\, great music\, and a chance to improve your game.
URL:https://communitysw.com/event/cardio-tennis-4/2027-01-02/
CATEGORIES:Tennis
ATTACH;FMTTYPE=image/jpeg:https://communitysw.com/wp-content/uploads/2024/10/Y0A7035-copy-edited.jpg
END:VEVENT
BEGIN:VEVENT
DTSTART;TZID=America/Indiana/Indianapolis:20270104T100000
DTEND;TZID=America/Indiana/Indianapolis:20270104T110000
DTSTAMP:20260419T130232
CREATED:20250117T203332Z
LAST-MODIFIED:20250117T204441Z
UID:10001491-1799056800-1799060400@communitysw.com
SUMMARY:Cardio Tennis
DESCRIPTION:This class is a nationwide fitness and tennis program from TIA (Tennis Industry Association) that promises “heart-pumping fitness”. The session includes a warm-up\, cardio workout\, great music\, and a chance to improve your game.
URL:https://communitysw.com/event/cardio-tennis/2027-01-04/
CATEGORIES:Tennis
ATTACH;FMTTYPE=image/jpeg:https://communitysw.com/wp-content/uploads/2024/10/Y0A7035-copy-edited.jpg
END:VEVENT
BEGIN:VEVENT
DTSTART;TZID=America/Indiana/Indianapolis:20270104T173000
DTEND;TZID=America/Indiana/Indianapolis:20270104T183000
DTSTAMP:20260419T130232
CREATED:20250117T204122Z
LAST-MODIFIED:20250117T204254Z
UID:10001911-1799083800-1799087400@communitysw.com
SUMMARY:Cardio Tennis
DESCRIPTION:This class is a nationwide fitness and tennis program from TIA (Tennis Industry Association) that promises “heart-pumping fitness”. The session includes a warm-up\, cardio workout\, great music\, and a chance to improve your game.
URL:https://communitysw.com/event/cardio-tennis-2/2027-01-04/
CATEGORIES:Tennis
ATTACH;FMTTYPE=image/jpeg:https://communitysw.com/wp-content/uploads/2024/10/Y0A7035-copy-edited.jpg
END:VEVENT
BEGIN:VEVENT
DTSTART;TZID=America/Indiana/Indianapolis:20270105T100000
DTEND;TZID=America/Indiana/Indianapolis:20270105T113000
DTSTAMP:20260419T130232
CREATED:20250117T204836Z
LAST-MODIFIED:20250117T204840Z
UID:10002172-1799143200-1799148600@communitysw.com
SUMMARY:4.0 CIWITL
DESCRIPTION:Come ready to learn and compete! \n\n\n\nThis class is focused on stroke production and point construction. Learn to move and play as a team with your partner and your other teammates. CIWITL Championship here we come!
URL:https://communitysw.com/event/4-0-ciwitl/2027-01-05/
CATEGORIES:Tennis
END:VEVENT
BEGIN:VEVENT
DTSTART;TZID=America/Indiana/Indianapolis:20270106T080000
DTEND;TZID=America/Indiana/Indianapolis:20270106T093000
DTSTAMP:20260419T130232
CREATED:20250117T210002Z
LAST-MODIFIED:20250117T210005Z
UID:10002433-1799222400-1799227800@communitysw.com
SUMMARY:Adult 3.0/3.5 Mixed Clinic
DESCRIPTION:Classes vary by rating and structure. These classes are focused on point play and fun! There is an emphasis on technique and incorporating strokes\, movement\, positioning and placement. Tactics and strategy taught in the appropriate format.
URL:https://communitysw.com/event/adult-3-0-3-5-mixed-clinic/2027-01-06/
CATEGORIES:Tennis
ATTACH;FMTTYPE=image/jpeg:https://communitysw.com/wp-content/uploads/2024/10/Y0A7035-copy-edited.jpg
END:VEVENT
BEGIN:VEVENT
DTSTART;TZID=America/Indiana/Indianapolis:20270106T100000
DTEND;TZID=America/Indiana/Indianapolis:20270106T110000
DTSTAMP:20260419T130232
CREATED:20250117T203332Z
LAST-MODIFIED:20250117T204441Z
UID:10001492-1799229600-1799233200@communitysw.com
SUMMARY:Cardio Tennis
DESCRIPTION:This class is a nationwide fitness and tennis program from TIA (Tennis Industry Association) that promises “heart-pumping fitness”. The session includes a warm-up\, cardio workout\, great music\, and a chance to improve your game.
URL:https://communitysw.com/event/cardio-tennis/2027-01-06/
CATEGORIES:Tennis
ATTACH;FMTTYPE=image/jpeg:https://communitysw.com/wp-content/uploads/2024/10/Y0A7035-copy-edited.jpg
END:VEVENT
BEGIN:VEVENT
DTSTART;TZID=America/Indiana/Indianapolis:20270107T093000
DTEND;TZID=America/Indiana/Indianapolis:20270107T110000
DTSTAMP:20260419T130232
CREATED:20250117T210234Z
LAST-MODIFIED:20250117T210237Z
UID:10002694-1799314200-1799319600@communitysw.com
SUMMARY:2.5 CIWITL
DESCRIPTION:Come ready to learn and compete! \n\n\n\nThis class is focused on stroke production and point construction. Learn to move and play as a team with your partner and your other teammates. CIWITL Championship here we come!
URL:https://communitysw.com/event/2-5-ciwitl/2027-01-07/
CATEGORIES:Tennis
ATTACH;FMTTYPE=image/jpeg:https://communitysw.com/wp-content/uploads/2024/10/Y0A7035-copy-edited.jpg
END:VEVENT
END:VCALENDAR