BEGIN:VCALENDAR
VERSION:2.0
PRODID:-//Community Sports and Wellness - ECPv6.15.17.1//NONSGML v1.0//EN
CALSCALE:GREGORIAN
METHOD:PUBLISH
X-WR-CALNAME:Community Sports and Wellness
X-ORIGINAL-URL:https://communitysw.com
X-WR-CALDESC:Events for Community Sports and Wellness
REFRESH-INTERVAL;VALUE=DURATION:PT1H
X-Robots-Tag:noindex
X-PUBLISHED-TTL:PT1H
BEGIN:VTIMEZONE
TZID:America/Indiana/Indianapolis
BEGIN:DAYLIGHT
TZOFFSETFROM:-0500
TZOFFSETTO:-0400
TZNAME:EDT
DTSTART:20240310T070000
END:DAYLIGHT
BEGIN:STANDARD
TZOFFSETFROM:-0400
TZOFFSETTO:-0500
TZNAME:EST
DTSTART:20241103T060000
END:STANDARD
BEGIN:DAYLIGHT
TZOFFSETFROM:-0500
TZOFFSETTO:-0400
TZNAME:EDT
DTSTART:20250309T070000
END:DAYLIGHT
BEGIN:STANDARD
TZOFFSETFROM:-0400
TZOFFSETTO:-0500
TZNAME:EST
DTSTART:20251102T060000
END:STANDARD
BEGIN:DAYLIGHT
TZOFFSETFROM:-0500
TZOFFSETTO:-0400
TZNAME:EDT
DTSTART:20260308T070000
END:DAYLIGHT
BEGIN:STANDARD
TZOFFSETFROM:-0400
TZOFFSETTO:-0500
TZNAME:EST
DTSTART:20261101T060000
END:STANDARD
END:VTIMEZONE
BEGIN:VEVENT
DTSTART;TZID=America/Indiana/Indianapolis:20251025T100000
DTEND;TZID=America/Indiana/Indianapolis:20251025T110000
DTSTAMP:20260422T103446
CREATED:20250117T164916Z
LAST-MODIFIED:20250117T164919Z
UID:10000976-1761386400-1761390000@communitysw.com
SUMMARY:Cardio PB
DESCRIPTION:This class promises “heart-pumping fitness”. This session includes a warm-up\, cardio workout\, great music\, and a chance to improve your pickleball game.
URL:https://communitysw.com/event/cardio-pb-3/2025-10-25/
CATEGORIES:Pickleball
ATTACH;FMTTYPE=image/jpeg:https://communitysw.com/wp-content/uploads/2024/10/pickleball-event-edited.jpg
END:VEVENT
BEGIN:VEVENT
DTSTART;TZID=America/Indiana/Indianapolis:20251025T080000
DTEND;TZID=America/Indiana/Indianapolis:20251025T090000
DTSTAMP:20260422T103446
CREATED:20250117T211631Z
LAST-MODIFIED:20250117T211634Z
UID:10004194-1761379200-1761382800@communitysw.com
SUMMARY:Cardio Tennis
DESCRIPTION:This class is a nationwide fitness and tennis program from TIA (Tennis Industry Association) that promises “heart-pumping fitness.” The session includes a warm-up\, cardio workout\, great music\, and a chance to improve your game.
URL:https://communitysw.com/event/cardio-tennis-4/2025-10-25/
CATEGORIES:Tennis
ATTACH;FMTTYPE=image/jpeg:https://communitysw.com/wp-content/uploads/2024/10/Y0A7035-copy-edited.jpg
END:VEVENT
BEGIN:VEVENT
DTSTART;TZID=America/Indiana/Indianapolis:20251024T180000
DTEND;TZID=America/Indiana/Indianapolis:20251024T200000
DTSTAMP:20260422T103446
CREATED:20250117T165251Z
LAST-MODIFIED:20250117T165254Z
UID:10001026-1761328800-1761336000@communitysw.com
SUMMARY:Open Play - Pickleball
DESCRIPTION:Join your friend or come alone and play as a group with other pickleball fans.
URL:https://communitysw.com/event/open-play-pickleball/2025-10-24/
CATEGORIES:Pickleball
ATTACH;FMTTYPE=image/jpeg:https://communitysw.com/wp-content/uploads/2024/10/pickleball-event-edited.jpg
END:VEVENT
BEGIN:VEVENT
DTSTART;TZID=America/Indiana/Indianapolis:20251024T123000
DTEND;TZID=America/Indiana/Indianapolis:20251024T133000
DTSTAMP:20260422T103446
CREATED:20250117T164550Z
LAST-MODIFIED:20250117T164553Z
UID:10000926-1761309000-1761312600@communitysw.com
SUMMARY:Cardio PB
DESCRIPTION:
URL:https://communitysw.com/event/cardio-pb-2/2025-10-24/
CATEGORIES:Pickleball
ATTACH;FMTTYPE=image/jpeg:https://communitysw.com/wp-content/uploads/2024/10/pickleball-event-edited.jpg
END:VEVENT
BEGIN:VEVENT
DTSTART;TZID=America/Indiana/Indianapolis:20251024T110000
DTEND;TZID=America/Indiana/Indianapolis:20251024T123000
DTSTAMP:20260422T103446
CREATED:20250117T211427Z
LAST-MODIFIED:20250117T211434Z
UID:10003933-1761303600-1761309000@communitysw.com
SUMMARY:3.0/3.5 CIWITL
DESCRIPTION:Come ready to learn and compete! \n\n\n\nThis class is focused on stroke production and point construction. Learn to move and play as a team with your partner and your other teammates. CIWITL Championship here we come!
URL:https://communitysw.com/event/3-0-3-5-ciwitl/2025-10-24/
CATEGORIES:Tennis
ATTACH;FMTTYPE=image/jpeg:https://communitysw.com/wp-content/uploads/2024/10/Y0A7035-copy-edited.jpg
END:VEVENT
BEGIN:VEVENT
DTSTART;TZID=America/Indiana/Indianapolis:20251024T103000
DTEND;TZID=America/Indiana/Indianapolis:20251024T123000
DTSTAMP:20260422T103446
CREATED:20250117T165529Z
LAST-MODIFIED:20250117T165534Z
UID:10001235-1761301800-1761309000@communitysw.com
SUMMARY:Open Play - Pickleball
DESCRIPTION:Join your friends or come alone and play as a group with other pickleball fans.
URL:https://communitysw.com/event/open-play-pickleball-2/2025-10-24/
CATEGORIES:Pickleball
ATTACH;FMTTYPE=image/jpeg:https://communitysw.com/wp-content/uploads/2024/10/pickleball-event-edited.jpg
END:VEVENT
BEGIN:VEVENT
DTSTART;TZID=America/Indiana/Indianapolis:20251024T093000
DTEND;TZID=America/Indiana/Indianapolis:20251024T110000
DTSTAMP:20260422T103446
CREATED:20250117T211212Z
LAST-MODIFIED:20250117T211215Z
UID:10003673-1761298200-1761303600@communitysw.com
SUMMARY:Cardio Tennis
DESCRIPTION:This class is a nationwide fitness and tennis program from TIA (Tennis Industry Association) that promises “heart-pumping fitness.” The session includes a warm-up\, cardio workout\, great music\, and a chance to improve your game.
URL:https://communitysw.com/event/cardio-tennis-3/2025-10-24/
CATEGORIES:Tennis
ATTACH;FMTTYPE=image/jpeg:https://communitysw.com/wp-content/uploads/2024/10/Y0A7035-copy-edited.jpg
END:VEVENT
BEGIN:VEVENT
DTSTART;TZID=America/Indiana/Indianapolis:20251024T090000
DTEND;TZID=America/Indiana/Indianapolis:20251024T100000
DTSTAMP:20260422T103446
CREATED:20250117T211005Z
LAST-MODIFIED:20250117T211009Z
UID:10003413-1761296400-1761300000@communitysw.com
SUMMARY:Tennis U 101
DESCRIPTION:Picking up a racquet for the first time? Or are you looking to refine your technique\, this class is for you. \n\n\n\nYou will learn technique\, strategies\, and skills like serving and volley grips.
URL:https://communitysw.com/event/tennis-u-101/2025-10-24/
CATEGORIES:Tennis
ATTACH;FMTTYPE=image/jpeg:https://communitysw.com/wp-content/uploads/2024/10/Y0A7035-copy-edited.jpg
END:VEVENT
BEGIN:VEVENT
DTSTART;TZID=America/Indiana/Indianapolis:20251024T080000
DTEND;TZID=America/Indiana/Indianapolis:20251024T093000
DTSTAMP:20260422T103446
CREATED:20250117T210733Z
LAST-MODIFIED:20250117T210737Z
UID:10003153-1761292800-1761298200@communitysw.com
SUMMARY:3.0/3.5 Men's Cardio & Drills
DESCRIPTION:Classes vary by rating and structure. \n\n\n\nThese classes are focused on point play and fun! There is an emphasis on technique and incorporating strokes\, movement\, positioning and placement. Tactics and strategy taught in the appropriate format.
URL:https://communitysw.com/event/3-0-3-5-mens-cardio-drills/2025-10-24/
CATEGORIES:Tennis
ATTACH;FMTTYPE=image/jpeg:https://communitysw.com/wp-content/uploads/2024/10/Y0A7035-copy-edited.jpg
END:VEVENT
BEGIN:VEVENT
DTSTART;TZID=America/Indiana/Indianapolis:20251023T183000
DTEND;TZID=America/Indiana/Indianapolis:20251023T203000
DTSTAMP:20260422T103446
CREATED:20250117T210521Z
LAST-MODIFIED:20250117T210526Z
UID:10002892-1761244200-1761251400@communitysw.com
SUMMARY:4.0+ Womens Clinic
DESCRIPTION:Classes vary by rating and structure. \n\n\n\nThese classes are focused on point play and fun! There is an emphasis on technique and incorporating strokes\, movement\, positioning and placement. Tactics and strategy taught in the appropriate format.
URL:https://communitysw.com/event/4-0-womens-clinic/2025-10-23/
CATEGORIES:Tennis
ATTACH;FMTTYPE=image/jpeg:https://communitysw.com/wp-content/uploads/2024/10/Y0A7035-copy-edited.jpg
END:VEVENT
BEGIN:VEVENT
DTSTART;TZID=America/Indiana/Indianapolis:20251023T113000
DTEND;TZID=America/Indiana/Indianapolis:20251023T120000
DTSTAMP:20260422T103446
CREATED:20250117T164321Z
LAST-MODIFIED:20250117T164325Z
UID:10000876-1761219000-1761220800@communitysw.com
SUMMARY:Pickleball Drills
DESCRIPTION:
URL:https://communitysw.com/event/pickleball-drills-2/2025-10-23/
CATEGORIES:Pickleball
ATTACH;FMTTYPE=image/jpeg:https://communitysw.com/wp-content/uploads/2024/10/pickleball-event-edited.jpg
END:VEVENT
BEGIN:VEVENT
DTSTART;TZID=America/Indiana/Indianapolis:20251023T103000
DTEND;TZID=America/Indiana/Indianapolis:20251023T123000
DTSTAMP:20260422T103446
CREATED:20250117T165529Z
LAST-MODIFIED:20250117T165534Z
UID:10001234-1761215400-1761222600@communitysw.com
SUMMARY:Open Play - Pickleball
DESCRIPTION:Join your friends or come alone and play as a group with other pickleball fans.
URL:https://communitysw.com/event/open-play-pickleball-2/2025-10-23/
CATEGORIES:Pickleball
ATTACH;FMTTYPE=image/jpeg:https://communitysw.com/wp-content/uploads/2024/10/pickleball-event-edited.jpg
END:VEVENT
BEGIN:VEVENT
DTSTART;TZID=America/Indiana/Indianapolis:20251023T093000
DTEND;TZID=America/Indiana/Indianapolis:20251023T110000
DTSTAMP:20260422T103446
CREATED:20250117T210234Z
LAST-MODIFIED:20250117T210237Z
UID:10002631-1761211800-1761217200@communitysw.com
SUMMARY:2.5 CIWITL
DESCRIPTION:Come ready to learn and compete! \n\n\n\nThis class is focused on stroke production and point construction. Learn to move and play as a team with your partner and your other teammates. CIWITL Championship here we come!
URL:https://communitysw.com/event/2-5-ciwitl/2025-10-23/
CATEGORIES:Tennis
ATTACH;FMTTYPE=image/jpeg:https://communitysw.com/wp-content/uploads/2024/10/Y0A7035-copy-edited.jpg
END:VEVENT
BEGIN:VEVENT
DTSTART;TZID=America/Indiana/Indianapolis:20251022T120000
DTEND;TZID=America/Indiana/Indianapolis:20251022T130000
DTSTAMP:20260422T103446
CREATED:20250117T162303Z
LAST-MODIFIED:20250117T162307Z
UID:10000616-1761134400-1761138000@communitysw.com
SUMMARY:Cardio PB
DESCRIPTION:This class promises “heart-pumping fitness”. The session includes a warm-up\, cardio workout\, great music\, and a chance to improve your pickleball game.
URL:https://communitysw.com/event/cardio-pb/2025-10-22/
CATEGORIES:Pickleball
ATTACH;FMTTYPE=image/jpeg:https://communitysw.com/wp-content/uploads/2024/10/pickleball-event-edited.jpg
END:VEVENT
BEGIN:VEVENT
DTSTART;TZID=America/Indiana/Indianapolis:20251022T103000
DTEND;TZID=America/Indiana/Indianapolis:20251022T123000
DTSTAMP:20260422T103446
CREATED:20250117T165529Z
LAST-MODIFIED:20250117T165534Z
UID:10001233-1761129000-1761136200@communitysw.com
SUMMARY:Open Play - Pickleball
DESCRIPTION:Join your friends or come alone and play as a group with other pickleball fans.
URL:https://communitysw.com/event/open-play-pickleball-2/2025-10-22/
CATEGORIES:Pickleball
ATTACH;FMTTYPE=image/jpeg:https://communitysw.com/wp-content/uploads/2024/10/pickleball-event-edited.jpg
END:VEVENT
BEGIN:VEVENT
DTSTART;TZID=America/Indiana/Indianapolis:20251022T100000
DTEND;TZID=America/Indiana/Indianapolis:20251022T110000
DTSTAMP:20260422T103446
CREATED:20250117T203332Z
LAST-MODIFIED:20250117T204441Z
UID:10001366-1761127200-1761130800@communitysw.com
SUMMARY:Cardio Tennis
DESCRIPTION:This class is a nationwide fitness and tennis program from TIA (Tennis Industry Association) that promises “heart-pumping fitness”. The session includes a warm-up\, cardio workout\, great music\, and a chance to improve your game.
URL:https://communitysw.com/event/cardio-tennis/2025-10-22/
CATEGORIES:Tennis
ATTACH;FMTTYPE=image/jpeg:https://communitysw.com/wp-content/uploads/2024/10/Y0A7035-copy-edited.jpg
END:VEVENT
BEGIN:VEVENT
DTSTART;TZID=America/Indiana/Indianapolis:20251022T080000
DTEND;TZID=America/Indiana/Indianapolis:20251022T093000
DTSTAMP:20260422T103446
CREATED:20250117T210002Z
LAST-MODIFIED:20250117T210005Z
UID:10002370-1761120000-1761125400@communitysw.com
SUMMARY:Adult 3.0/3.5 Mixed Clinic
DESCRIPTION:Classes vary by rating and structure. These classes are focused on point play and fun! There is an emphasis on technique and incorporating strokes\, movement\, positioning and placement. Tactics and strategy taught in the appropriate format.
URL:https://communitysw.com/event/adult-3-0-3-5-mixed-clinic/2025-10-22/
CATEGORIES:Tennis
ATTACH;FMTTYPE=image/jpeg:https://communitysw.com/wp-content/uploads/2024/10/Y0A7035-copy-edited.jpg
END:VEVENT
BEGIN:VEVENT
DTSTART;TZID=America/Indiana/Indianapolis:20251021T190000
DTEND;TZID=America/Indiana/Indianapolis:20251021T200000
DTSTAMP:20260422T103446
CREATED:20250117T163643Z
LAST-MODIFIED:20250117T163645Z
UID:10000826-1761073200-1761076800@communitysw.com
SUMMARY:Intermediate Drills
DESCRIPTION:Play – Learn – Advance The intermediate clinic is for those who know how to play and want to continue to advance. Learn new skills\, techniques\, & strategy.
URL:https://communitysw.com/event/intermediate-drills/2025-10-21/
CATEGORIES:Pickleball
ATTACH;FMTTYPE=image/jpeg:https://communitysw.com/wp-content/uploads/2024/10/pickleball-event-edited.jpg
END:VEVENT
BEGIN:VEVENT
DTSTART;TZID=America/Indiana/Indianapolis:20251021T190000
DTEND;TZID=America/Indiana/Indianapolis:20251021T200000
DTSTAMP:20260422T103446
CREATED:20250117T163235Z
LAST-MODIFIED:20250117T163238Z
UID:10000776-1761073200-1761076800@communitysw.com
SUMMARY:Intro to PB
DESCRIPTION:Learn the fastest growing sport in the USA!Learn how to play\, serve\, keep score\, and many other beginner techniques.
URL:https://communitysw.com/event/intro-to-pb-2/2025-10-21/
CATEGORIES:Pickleball
ATTACH;FMTTYPE=image/jpeg:https://communitysw.com/wp-content/uploads/2024/10/pickleball-event-edited.jpg
END:VEVENT
BEGIN:VEVENT
DTSTART;TZID=America/Indiana/Indianapolis:20251021T120000
DTEND;TZID=America/Indiana/Indianapolis:20251021T130000
DTSTAMP:20260422T103446
CREATED:20250117T162951Z
LAST-MODIFIED:20250117T162954Z
UID:10000726-1761048000-1761051600@communitysw.com
SUMMARY:Pickleball Drills
DESCRIPTION:
URL:https://communitysw.com/event/pickleball-drills/2025-10-21/
CATEGORIES:Pickleball
ATTACH;FMTTYPE=image/jpeg:https://communitysw.com/wp-content/uploads/2024/10/pickleball-event-edited.jpg
END:VEVENT
BEGIN:VEVENT
DTSTART;TZID=America/Indiana/Indianapolis:20251021T110000
DTEND;TZID=America/Indiana/Indianapolis:20251021T120000
DTSTAMP:20260422T103446
CREATED:20250117T162529Z
LAST-MODIFIED:20250117T162717Z
UID:10000676-1761044400-1761048000@communitysw.com
SUMMARY:Intro to PB
DESCRIPTION:Learn the fastest growing sport in the USA! Learn how to play\, serve\, keep score\, and many other beginner techniques.
URL:https://communitysw.com/event/intro-to-pb/2025-10-21/
CATEGORIES:Pickleball
ATTACH;FMTTYPE=image/jpeg:https://communitysw.com/wp-content/uploads/2024/10/pickleball-event-edited.jpg
END:VEVENT
BEGIN:VEVENT
DTSTART;TZID=America/Indiana/Indianapolis:20251021T103000
DTEND;TZID=America/Indiana/Indianapolis:20251021T123000
DTSTAMP:20260422T103446
CREATED:20250117T165529Z
LAST-MODIFIED:20250117T165534Z
UID:10001232-1761042600-1761049800@communitysw.com
SUMMARY:Open Play - Pickleball
DESCRIPTION:Join your friends or come alone and play as a group with other pickleball fans.
URL:https://communitysw.com/event/open-play-pickleball-2/2025-10-21/
CATEGORIES:Pickleball
ATTACH;FMTTYPE=image/jpeg:https://communitysw.com/wp-content/uploads/2024/10/pickleball-event-edited.jpg
END:VEVENT
BEGIN:VEVENT
DTSTART;TZID=America/Indiana/Indianapolis:20251021T100000
DTEND;TZID=America/Indiana/Indianapolis:20251021T113000
DTSTAMP:20260422T103446
CREATED:20250117T204836Z
LAST-MODIFIED:20250117T204840Z
UID:10002109-1761040800-1761046200@communitysw.com
SUMMARY:4.0 CIWITL
DESCRIPTION:Come ready to learn and compete! \n\n\n\nThis class is focused on stroke production and point construction. Learn to move and play as a team with your partner and your other teammates. CIWITL Championship here we come!
URL:https://communitysw.com/event/4-0-ciwitl/2025-10-21/
CATEGORIES:Tennis
END:VEVENT
BEGIN:VEVENT
DTSTART;TZID=America/Indiana/Indianapolis:20251020T173000
DTEND;TZID=America/Indiana/Indianapolis:20251020T183000
DTSTAMP:20260422T103446
CREATED:20250117T204122Z
LAST-MODIFIED:20250117T204254Z
UID:10001848-1760981400-1760985000@communitysw.com
SUMMARY:Cardio Tennis
DESCRIPTION:This class is a nationwide fitness and tennis program from TIA (Tennis Industry Association) that promises “heart-pumping fitness”. The session includes a warm-up\, cardio workout\, great music\, and a chance to improve your game.
URL:https://communitysw.com/event/cardio-tennis-2/2025-10-20/
CATEGORIES:Tennis
ATTACH;FMTTYPE=image/jpeg:https://communitysw.com/wp-content/uploads/2024/10/Y0A7035-copy-edited.jpg
END:VEVENT
BEGIN:VEVENT
DTSTART;TZID=America/Indiana/Indianapolis:20251020T120000
DTEND;TZID=America/Indiana/Indianapolis:20251020T130000
DTSTAMP:20260422T103446
CREATED:20250117T162303Z
LAST-MODIFIED:20250117T162307Z
UID:10000615-1760961600-1760965200@communitysw.com
SUMMARY:Cardio PB
DESCRIPTION:This class promises “heart-pumping fitness”. The session includes a warm-up\, cardio workout\, great music\, and a chance to improve your pickleball game.
URL:https://communitysw.com/event/cardio-pb/2025-10-20/
CATEGORIES:Pickleball
ATTACH;FMTTYPE=image/jpeg:https://communitysw.com/wp-content/uploads/2024/10/pickleball-event-edited.jpg
END:VEVENT
BEGIN:VEVENT
DTSTART;TZID=America/Indiana/Indianapolis:20251020T103000
DTEND;TZID=America/Indiana/Indianapolis:20251020T123000
DTSTAMP:20260422T103446
CREATED:20250117T165529Z
LAST-MODIFIED:20250117T165534Z
UID:10001231-1760956200-1760963400@communitysw.com
SUMMARY:Open Play - Pickleball
DESCRIPTION:Join your friends or come alone and play as a group with other pickleball fans.
URL:https://communitysw.com/event/open-play-pickleball-2/2025-10-20/
CATEGORIES:Pickleball
ATTACH;FMTTYPE=image/jpeg:https://communitysw.com/wp-content/uploads/2024/10/pickleball-event-edited.jpg
END:VEVENT
BEGIN:VEVENT
DTSTART;TZID=America/Indiana/Indianapolis:20251020T100000
DTEND;TZID=America/Indiana/Indianapolis:20251020T110000
DTSTAMP:20260422T103446
CREATED:20250117T203332Z
LAST-MODIFIED:20250117T204441Z
UID:10001365-1760954400-1760958000@communitysw.com
SUMMARY:Cardio Tennis
DESCRIPTION:This class is a nationwide fitness and tennis program from TIA (Tennis Industry Association) that promises “heart-pumping fitness”. The session includes a warm-up\, cardio workout\, great music\, and a chance to improve your game.
URL:https://communitysw.com/event/cardio-tennis/2025-10-20/
CATEGORIES:Tennis
ATTACH;FMTTYPE=image/jpeg:https://communitysw.com/wp-content/uploads/2024/10/Y0A7035-copy-edited.jpg
END:VEVENT
BEGIN:VEVENT
DTSTART;TZID=America/Indiana/Indianapolis:20251018T100000
DTEND;TZID=America/Indiana/Indianapolis:20251018T110000
DTSTAMP:20260422T103446
CREATED:20250117T164916Z
LAST-MODIFIED:20250117T164919Z
UID:10000975-1760781600-1760785200@communitysw.com
SUMMARY:Cardio PB
DESCRIPTION:This class promises “heart-pumping fitness”. This session includes a warm-up\, cardio workout\, great music\, and a chance to improve your pickleball game.
URL:https://communitysw.com/event/cardio-pb-3/2025-10-18/
CATEGORIES:Pickleball
ATTACH;FMTTYPE=image/jpeg:https://communitysw.com/wp-content/uploads/2024/10/pickleball-event-edited.jpg
END:VEVENT
BEGIN:VEVENT
DTSTART;TZID=America/Indiana/Indianapolis:20251018T080000
DTEND;TZID=America/Indiana/Indianapolis:20251018T090000
DTSTAMP:20260422T103446
CREATED:20250117T211631Z
LAST-MODIFIED:20250117T211634Z
UID:10004193-1760774400-1760778000@communitysw.com
SUMMARY:Cardio Tennis
DESCRIPTION:This class is a nationwide fitness and tennis program from TIA (Tennis Industry Association) that promises “heart-pumping fitness.” The session includes a warm-up\, cardio workout\, great music\, and a chance to improve your game.
URL:https://communitysw.com/event/cardio-tennis-4/2025-10-18/
CATEGORIES:Tennis
ATTACH;FMTTYPE=image/jpeg:https://communitysw.com/wp-content/uploads/2024/10/Y0A7035-copy-edited.jpg
END:VEVENT
BEGIN:VEVENT
DTSTART;TZID=America/Indiana/Indianapolis:20251017T180000
DTEND;TZID=America/Indiana/Indianapolis:20251017T200000
DTSTAMP:20260422T103446
CREATED:20250117T165251Z
LAST-MODIFIED:20250117T165254Z
UID:10001025-1760724000-1760731200@communitysw.com
SUMMARY:Open Play - Pickleball
DESCRIPTION:Join your friend or come alone and play as a group with other pickleball fans.
URL:https://communitysw.com/event/open-play-pickleball/2025-10-17/
CATEGORIES:Pickleball
ATTACH;FMTTYPE=image/jpeg:https://communitysw.com/wp-content/uploads/2024/10/pickleball-event-edited.jpg
END:VEVENT
END:VCALENDAR